BEGIN:VCALENDAR
VERSION:2.0
PRODID:-//OKC Ski Club - ECPv6.15.20//NONSGML v1.0//EN
CALSCALE:GREGORIAN
METHOD:PUBLISH
X-WR-CALNAME:OKC Ski Club
X-ORIGINAL-URL:https://okcskiclub.org
X-WR-CALDESC:Events for OKC Ski Club
REFRESH-INTERVAL;VALUE=DURATION:PT1H
X-Robots-Tag:noindex
X-PUBLISHED-TTL:PT1H
BEGIN:VTIMEZONE
TZID:America/Chicago
BEGIN:DAYLIGHT
TZOFFSETFROM:-0600
TZOFFSETTO:-0500
TZNAME:CDT
DTSTART:20250309T080000
END:DAYLIGHT
BEGIN:STANDARD
TZOFFSETFROM:-0500
TZOFFSETTO:-0600
TZNAME:CST
DTSTART:20251102T070000
END:STANDARD
BEGIN:DAYLIGHT
TZOFFSETFROM:-0600
TZOFFSETTO:-0500
TZNAME:CDT
DTSTART:20260308T080000
END:DAYLIGHT
BEGIN:STANDARD
TZOFFSETFROM:-0500
TZOFFSETTO:-0600
TZNAME:CST
DTSTART:20261101T070000
END:STANDARD
BEGIN:DAYLIGHT
TZOFFSETFROM:-0600
TZOFFSETTO:-0500
TZNAME:CDT
DTSTART:20270314T080000
END:DAYLIGHT
BEGIN:STANDARD
TZOFFSETFROM:-0500
TZOFFSETTO:-0600
TZNAME:CST
DTSTART:20271107T070000
END:STANDARD
END:VTIMEZONE
BEGIN:VEVENT
DTSTART;TZID=America/Chicago:20260304T183000
DTEND;TZID=America/Chicago:20260304T203000
DTSTAMP:20260421T101320
CREATED:20260111T135533Z
LAST-MODIFIED:20260111T150723Z
UID:10423-1772649000-1772656200@okcskiclub.org
SUMMARY:March General Meeting & Potluck
DESCRIPTION:Don’t miss our last general meeting of the ski season! Come celebrate\, have some fun\, and hear about upcoming ski club trips and events. Even if you’re just looking to hang out and meet new people\, make plans to join us! \n\n\n\nPlease bring your favorite dish to share\, appetizer or dessert. \n\n\n\nThe meeting will be held from 6:30pm – 8:30pm. \n\n\n\nYou do not have to be a member to attend! \n\n\n\nEveryone is welcome! \n\n\n\nWill Rogers Garden Exhibition Center • 3400 NW 36th Street • OKC\, OK 73112
URL:https://okcskiclub.org/event/march-general-meeting-potluck/
LOCATION:Will Rogers Garden Center\, 3400 NW 36th Street\, Oklahoma City\, Oklahoma\, 73112
CATEGORIES:Event,Save The Date
ATTACH;FMTTYPE=image/png:https://okcskiclub.org/wp-content/uploads/2024/01/Screenshot-2025-02-09-at-7.52.12 AM.png
END:VEVENT
BEGIN:VEVENT
DTSTART;TZID=America/Chicago:20260311T173000
DTEND;TZID=America/Chicago:20260311T193000
DTSTAMP:20260421T101320
CREATED:20260111T141925Z
LAST-MODIFIED:20260111T141926Z
UID:10426-1773250200-1773257400@okcskiclub.org
SUMMARY:March SNO (Skiers Night Out)
DESCRIPTION:We will be hosting March SNO at Belle Isle Restaurant & Pub\, located in 50 Penn Place (south of Penn Square Mall). \n\n\n\nParking and the restaurant entrance are on the north side. \n\n\n\nThe venue has a casual atmosphere with a sports bar feel\, featuring comfort pub food\, specialty pizzas\, burgers\, salads\, and Mexican entrées along with many vegetarian options. A selection of craft beers\, cocktails\, and guest taps will be available.  \n\n\n\nTheir Happy Hour is from 3:00pm – 6:00pm which includes discounted drinks and appetizers.  \n\n\n\nThis will be the Pre-trip Party for Schweitzer Mountain (Idaho) \n\n\n\nGrab a friend and come join the OKC Ski Club for Great Food\, Great Friends\, and Great Fun! \n\n\n\nYou do not have to be a member to attend.Everyone is welcome! \n\n\n\nBelle Isle Restaurant & Pub • 1900 Northwest Expy\, Oklahoma City\, OK 73118 (South of Penn Square Mall)
URL:https://okcskiclub.org/event/march-sno-skiers-night-out-7/
LOCATION:Belle Isle Restaurant & Pub\, 1900 Northwest Expy\, Oklahoma City\, Oklahoma
CATEGORIES:Event,Save The Date
ATTACH;FMTTYPE=image/png:https://okcskiclub.org/wp-content/uploads/2026/01/Screenshot-2026-01-11-at-8.00.05-AM.png
END:VEVENT
END:VCALENDAR