BEGIN:VCALENDAR
VERSION:2.0
PRODID:-//OKC Ski Club - ECPv6.15.20//NONSGML v1.0//EN
CALSCALE:GREGORIAN
METHOD:PUBLISH
X-ORIGINAL-URL:https://okcskiclub.org
X-WR-CALDESC:Events for OKC Ski Club
REFRESH-INTERVAL;VALUE=DURATION:PT1H
X-Robots-Tag:noindex
X-PUBLISHED-TTL:PT1H
BEGIN:VTIMEZONE
TZID:America/Chicago
BEGIN:DAYLIGHT
TZOFFSETFROM:-0600
TZOFFSETTO:-0500
TZNAME:CDT
DTSTART:20240310T080000
END:DAYLIGHT
BEGIN:STANDARD
TZOFFSETFROM:-0500
TZOFFSETTO:-0600
TZNAME:CST
DTSTART:20241103T070000
END:STANDARD
BEGIN:DAYLIGHT
TZOFFSETFROM:-0600
TZOFFSETTO:-0500
TZNAME:CDT
DTSTART:20250309T080000
END:DAYLIGHT
BEGIN:STANDARD
TZOFFSETFROM:-0500
TZOFFSETTO:-0600
TZNAME:CST
DTSTART:20251102T070000
END:STANDARD
BEGIN:DAYLIGHT
TZOFFSETFROM:-0600
TZOFFSETTO:-0500
TZNAME:CDT
DTSTART:20260308T080000
END:DAYLIGHT
BEGIN:STANDARD
TZOFFSETFROM:-0500
TZOFFSETTO:-0600
TZNAME:CST
DTSTART:20261101T070000
END:STANDARD
END:VTIMEZONE
BEGIN:VEVENT
DTSTART;TZID=America/Chicago:20251105T183000
DTEND;TZID=America/Chicago:20251105T203000
DTSTAMP:20260421T163141
CREATED:20250828T203850Z
LAST-MODIFIED:20251029T122207Z
UID:9822-1762367400-1762374600@okcskiclub.org
SUMMARY:November General Meeting\, Chili Cook-off
DESCRIPTION:The weather’s cooling down\, which means it’s the perfect time for some hot\, delicious chili! Sharpen up your best recipe and bring a crockpot full to compete in the Annual Ski Club Chili Cook-Off. Winners will take home 1st\, 2nd\, and 3rd place prizes—each worth credit toward a ski trip in the 2025–26 season. \n\n\n\nNot a chili chef? No problem! You are welcome to bring a dessert or just come taste\, vote\, and enjoy the evening while learning about upcoming ski club trips and events—or simply hang out\, reconnect with friends\, and meet new ones. \n\n\n\nSnacks and drinks will be provided. \n\n\n\nThe meeting will be held from 6:30pm – 8:30pm. \n\n\n\nWill Rogers Garden Exhibition Center  • 3400 NW 36th Street • OKC\, OK 73112
URL:https://okcskiclub.org/event/november-general-meeting-chili-cook-off-3/
LOCATION:Will Rogers Garden Arboretum\, 3400 NW 36th St\, Oklahoma City\, Oklahoma\, 73112
CATEGORIES:Event,Save The Date
ATTACH;FMTTYPE=image/jpeg:https://okcskiclub.org/wp-content/uploads/2022/08/chili-con-carne-mexican-food-with-beans-in-pot-2021-08-29-09-37-26-utc-scaled.jpg
END:VEVENT
BEGIN:VEVENT
DTSTART;TZID=America/Chicago:20251112T173000
DTEND;TZID=America/Chicago:20251112T193000
DTSTAMP:20260421T163141
CREATED:20250829T153440Z
LAST-MODIFIED:20251024T172418Z
UID:9829-1762968600-1762975800@okcskiclub.org
SUMMARY:November SNO (Skiers Night Out)
DESCRIPTION:Join us for the November SNO at Eddie’s (Chisholm Creek)! Local eatery known for its wings and big portions of award-winning wings\, burgers and pasta.  \n\n\n\nThis will be the pre-trip party for Big Sky. \n\n\n\nGrab a friend and come join the OKC Ski Club for Great Food\, Great Friends\, and Great Fun! \n\n\n\nYou do not have to be a member to attend.  Everyone is welcome!
URL:https://okcskiclub.org/event/november-sno-skiers-night-out-6/
LOCATION:Eddie’s (Chisholm Creek)\, 13230 Pawnee Dr #115\, Oklahoma City\, Oklahoma\, 73114\, United States
ATTACH;FMTTYPE=image/png:https://okcskiclub.org/wp-content/uploads/2025/08/Screenshot-2025-08-29-at-10.34.05-AM.png
END:VEVENT
END:VCALENDAR