BEGIN:VCALENDAR
VERSION:2.0
PRODID:-//OKC Ski Club - ECPv6.15.20//NONSGML v1.0//EN
CALSCALE:GREGORIAN
METHOD:PUBLISH
X-ORIGINAL-URL:https://okcskiclub.org
X-WR-CALDESC:Events for OKC Ski Club
REFRESH-INTERVAL;VALUE=DURATION:PT1H
X-Robots-Tag:noindex
X-PUBLISHED-TTL:PT1H
BEGIN:VTIMEZONE
TZID:America/Chicago
BEGIN:DAYLIGHT
TZOFFSETFROM:-0600
TZOFFSETTO:-0500
TZNAME:CDT
DTSTART:20240310T080000
END:DAYLIGHT
BEGIN:STANDARD
TZOFFSETFROM:-0500
TZOFFSETTO:-0600
TZNAME:CST
DTSTART:20241103T070000
END:STANDARD
BEGIN:DAYLIGHT
TZOFFSETFROM:-0600
TZOFFSETTO:-0500
TZNAME:CDT
DTSTART:20250309T080000
END:DAYLIGHT
BEGIN:STANDARD
TZOFFSETFROM:-0500
TZOFFSETTO:-0600
TZNAME:CST
DTSTART:20251102T070000
END:STANDARD
BEGIN:DAYLIGHT
TZOFFSETFROM:-0600
TZOFFSETTO:-0500
TZNAME:CDT
DTSTART:20260308T080000
END:DAYLIGHT
BEGIN:STANDARD
TZOFFSETFROM:-0500
TZOFFSETTO:-0600
TZNAME:CST
DTSTART:20261101T070000
END:STANDARD
END:VTIMEZONE
BEGIN:VEVENT
DTSTART;TZID=America/Chicago:20250813T173000
DTEND;TZID=America/Chicago:20250813T193000
DTSTAMP:20260421T212322
CREATED:20250518T150941Z
LAST-MODIFIED:20250703T163447Z
UID:9471-1755106200-1755113400@okcskiclub.org
SUMMARY:August SNO (Skiers Night Out)
DESCRIPTION:We will be hosting August SNO at Smokehouse Social (Located in OKANA Resort & Indoor Waterpark). \n\n\n\nGet ready for a dining experience that’s as flavorful as it is fun.  Our group will be choosing from a set menu with BBQ Beef Brisket Sandwich\, Pulled Pork Smoked Sandwich\, a Hamburger\, or a Wedge or House Salad.  All come with sides.  \n\n\n\nFor the sports enthusiast\, they offer 25-sports simulators (including golf) plus much more.  \n\n\n\nGrab a friend and come join the OKC Ski Club for Great Food\, Great Friends\, and Great Fun! You do not have to be a member to attend. \n\n\n\nEveryone is welcome! \n\n\n\nParking is available in front of the First Americans Museum (FAM).  Walk towards the OKANA hotel and the restaurant is right there.  You can’t miss it. 
URL:https://okcskiclub.org/event/august-sno-skiers-night-out-7/
LOCATION:Smokehouse Social\, 651 Americans Boulevard\, Oklahoma City\, Oklahoma\, 73129\, United States
CATEGORIES:Event
ATTACH;FMTTYPE=image/png:https://okcskiclub.org/wp-content/uploads/2025/05/Screenshot-2025-05-18-at-10.07.39 AM-1.png
END:VEVENT
BEGIN:VEVENT
DTSTART;TZID=America/Chicago:20250816T160000
DTEND;TZID=America/Chicago:20250816T180000
DTSTAMP:20260421T212322
CREATED:20250703T161614Z
LAST-MODIFIED:20250703T161636Z
UID:9689-1755360000-1755367200@okcskiclub.org
SUMMARY:Snow Season Kick-Off Party
DESCRIPTION:Get ready to hit the slopes – SNOW style!  \n\n\n\nJoin us as we launch the 2025-26 snow season with a Kick-Off Party at Will Rogers Garden Exhibition Center. Whether you’re a seasoned skier/boarder or just in it for the après\, this is your chance to connect\, celebrate and start planning those epic ski trips.  \n\n\n\nWe will have a special guest to talk about the Ireland trip and we will be discussing some travel opportunities beyond skiing and some inside scoop on  2027 plans! \n\n\n\nLet’s kick off the season right!
URL:https://okcskiclub.org/event/snow-season-kick-off-party/
LOCATION:Will Rogers Garden Exhibition Center\, Meeting Room 1\, 3400 NW 36th Street\, Oklahoma City\, Oklahoma\, 73112
ATTACH;FMTTYPE=image/png:https://okcskiclub.org/wp-content/uploads/2025/07/Screenshot-2025-07-03-at-11.14.25 AM.png
END:VEVENT
END:VCALENDAR