BEGIN:VCALENDAR
VERSION:2.0
PRODID:-//OKC Ski Club - ECPv6.15.20//NONSGML v1.0//EN
CALSCALE:GREGORIAN
METHOD:PUBLISH
X-ORIGINAL-URL:https://okcskiclub.org
X-WR-CALDESC:Events for OKC Ski Club
REFRESH-INTERVAL;VALUE=DURATION:PT1H
X-Robots-Tag:noindex
X-PUBLISHED-TTL:PT1H
BEGIN:VTIMEZONE
TZID:America/Chicago
BEGIN:DAYLIGHT
TZOFFSETFROM:-0600
TZOFFSETTO:-0500
TZNAME:CDT
DTSTART:20240310T080000
END:DAYLIGHT
BEGIN:STANDARD
TZOFFSETFROM:-0500
TZOFFSETTO:-0600
TZNAME:CST
DTSTART:20241103T070000
END:STANDARD
BEGIN:DAYLIGHT
TZOFFSETFROM:-0600
TZOFFSETTO:-0500
TZNAME:CDT
DTSTART:20250309T080000
END:DAYLIGHT
BEGIN:STANDARD
TZOFFSETFROM:-0500
TZOFFSETTO:-0600
TZNAME:CST
DTSTART:20251102T070000
END:STANDARD
BEGIN:DAYLIGHT
TZOFFSETFROM:-0600
TZOFFSETTO:-0500
TZNAME:CDT
DTSTART:20260308T080000
END:DAYLIGHT
BEGIN:STANDARD
TZOFFSETFROM:-0500
TZOFFSETTO:-0600
TZNAME:CST
DTSTART:20261101T070000
END:STANDARD
END:VTIMEZONE
BEGIN:VEVENT
DTSTART;TZID=America/Chicago:20250514T173000
DTEND;TZID=America/Chicago:20250514T193000
DTSTAMP:20260422T020903
CREATED:20250315T134923Z
LAST-MODIFIED:20250417T161627Z
UID:8679-1747243800-1747251000@okcskiclub.org
SUMMARY:May SNO (Skiers Night Out)
DESCRIPTION:Iron Star Barbecue \n\n\n\nNamed for Belle Starr\, a notorious Oklahoma female outlaw.  Iron Star BBQ offers a unique and tasty spin on comfort foods; a rustic BBQ joint with an upscale vibe known for tender ribs and standout cornbread.  \n\n\n\nOffering a Wednesday daily special\, snacks to share\, along with house smoked meats\, plus much more.  Quince your thirst with handcrafted cocktails\, whiskeys\, beers\, wine and sodas. \n\n\n\nGrab a friend and come join the OKC Ski Club for Great Food\, Great Friends\, and Great Fun! \n\n\n\nYou do not have to be a member to attend.Everyone is welcome! \n\n\n\nIron Star Barbecue • 3700 N. Shartel • OKC\, OK 73118
URL:https://okcskiclub.org/event/may-sno-skiers-night-out-5/
LOCATION:Oklahoma
CATEGORIES:Event
ATTACH;FMTTYPE=image/png:https://okcskiclub.org/wp-content/uploads/2025/03/Screenshot-2025-04-05-at-10.13.20 AM.png
END:VEVENT
END:VCALENDAR