BEGIN:VCALENDAR
VERSION:2.0
PRODID:-//OKC Ski Club - ECPv6.15.20//NONSGML v1.0//EN
CALSCALE:GREGORIAN
METHOD:PUBLISH
X-ORIGINAL-URL:https://okcskiclub.org
X-WR-CALDESC:Events for OKC Ski Club
REFRESH-INTERVAL;VALUE=DURATION:PT1H
X-Robots-Tag:noindex
X-PUBLISHED-TTL:PT1H
BEGIN:VTIMEZONE
TZID:America/Chicago
BEGIN:DAYLIGHT
TZOFFSETFROM:-0600
TZOFFSETTO:-0500
TZNAME:CDT
DTSTART:20240310T080000
END:DAYLIGHT
BEGIN:STANDARD
TZOFFSETFROM:-0500
TZOFFSETTO:-0600
TZNAME:CST
DTSTART:20241103T070000
END:STANDARD
BEGIN:DAYLIGHT
TZOFFSETFROM:-0600
TZOFFSETTO:-0500
TZNAME:CDT
DTSTART:20250309T080000
END:DAYLIGHT
BEGIN:STANDARD
TZOFFSETFROM:-0500
TZOFFSETTO:-0600
TZNAME:CST
DTSTART:20251102T070000
END:STANDARD
BEGIN:DAYLIGHT
TZOFFSETFROM:-0600
TZOFFSETTO:-0500
TZNAME:CDT
DTSTART:20260308T080000
END:DAYLIGHT
BEGIN:STANDARD
TZOFFSETFROM:-0500
TZOFFSETTO:-0600
TZNAME:CST
DTSTART:20261101T070000
END:STANDARD
END:VTIMEZONE
BEGIN:VEVENT
DTSTART;TZID=America/Chicago:20250305T183000
DTEND;TZID=America/Chicago:20250305T203000
DTSTAMP:20260422T050036
CREATED:20240115T203057Z
LAST-MODIFIED:20250209T140146Z
UID:6998-1741199400-1741206600@okcskiclub.org
SUMMARY:March General Meeting & Potluck
DESCRIPTION:Plan on joining us for our annual Potluck Dinner \n\n\n\nThis will be our last general meeting for this ski season so come and enjoy the fun. Also\, if you are interested in knowing more about our upcoming ski club events\, trips\, etc or just want to come hang out and meet new friends\, make plans to attend. \n\n\n\nPlease bring your favorite dish to share\, appetizer or dessert. \n\n\n\nThe meeting will be held from 6:30pm – 8:30pm. \n\n\n\nWill Rogers Garden Exhibition Center • 3400 NW 36th Street • OKC\, OK 73112
URL:https://okcskiclub.org/event/february-general-meeting-potluck/
LOCATION:Will Rogers Garden Center\, 3400 NW 36th Street\, Oklahoma City\, Oklahoma\, 73112
CATEGORIES:Event,Save The Date
ATTACH;FMTTYPE=image/png:https://okcskiclub.org/wp-content/uploads/2024/01/Screenshot-2025-02-09-at-7.52.12 AM.png
END:VEVENT
BEGIN:VEVENT
DTSTART;TZID=America/Chicago:20250312T173000
DTEND;TZID=America/Chicago:20250312T193000
DTSTAMP:20260422T050036
CREATED:20250209T140840Z
LAST-MODIFIED:20250209T141218Z
UID:8615-1741800600-1741807800@okcskiclub.org
SUMMARY:March SNO (Skiers Night Out)
DESCRIPTION:We will be hosting March SNO at Rev Mex\, a trendy spot bringing modernized Mexican and Tex-Mex classic flavors that are offered with flavored Margaritas & beer. Vegetarian options available. Just a few minutes from downtown Oklahoma City.  \n\n\n\nThis will be the Pre-trip Party for Breckenridge. \n\n\n\nGrab a friend and come join the OKC Ski Club for Great Food\, Great Friends\, and Great Fun! \n\n\n\nYou do not have to be a member to attend.Everyone is welcome!
URL:https://okcskiclub.org/event/march-sno-skiers-night-out-6/
LOCATION:Rev Mex\, 916 NW 6th Street\, Oklahoma City\, Oklahoma\, 73106\, United States
CATEGORIES:Event
ATTACH;FMTTYPE=image/png:https://okcskiclub.org/wp-content/uploads/2025/02/Screenshot-2025-02-09-at-8.06.18 AM.png
END:VEVENT
END:VCALENDAR