BEGIN:VCALENDAR
VERSION:2.0
PRODID:-//OKC Ski Club - ECPv6.15.20//NONSGML v1.0//EN
CALSCALE:GREGORIAN
METHOD:PUBLISH
X-WR-CALNAME:OKC Ski Club
X-ORIGINAL-URL:https://okcskiclub.org
X-WR-CALDESC:Events for OKC Ski Club
REFRESH-INTERVAL;VALUE=DURATION:PT1H
X-Robots-Tag:noindex
X-PUBLISHED-TTL:PT1H
BEGIN:VTIMEZONE
TZID:America/Chicago
BEGIN:DAYLIGHT
TZOFFSETFROM:-0600
TZOFFSETTO:-0500
TZNAME:CDT
DTSTART:20240310T080000
END:DAYLIGHT
BEGIN:STANDARD
TZOFFSETFROM:-0500
TZOFFSETTO:-0600
TZNAME:CST
DTSTART:20241103T070000
END:STANDARD
BEGIN:DAYLIGHT
TZOFFSETFROM:-0600
TZOFFSETTO:-0500
TZNAME:CDT
DTSTART:20250309T080000
END:DAYLIGHT
BEGIN:STANDARD
TZOFFSETFROM:-0500
TZOFFSETTO:-0600
TZNAME:CST
DTSTART:20251102T070000
END:STANDARD
BEGIN:DAYLIGHT
TZOFFSETFROM:-0600
TZOFFSETTO:-0500
TZNAME:CDT
DTSTART:20260308T080000
END:DAYLIGHT
BEGIN:STANDARD
TZOFFSETFROM:-0500
TZOFFSETTO:-0600
TZNAME:CST
DTSTART:20261101T070000
END:STANDARD
END:VTIMEZONE
BEGIN:VEVENT
DTSTART;TZID=America/Chicago:20250212T173000
DTEND;TZID=America/Chicago:20250212T193000
DTSTAMP:20260422T064355
CREATED:20250123T173752Z
LAST-MODIFIED:20250123T202130Z
UID:8586-1739381400-1739388600@okcskiclub.org
SUMMARY:February SNO (Skiers Night Out)
DESCRIPTION:We will be hosting February SNO at Hideaway Pizza which is a trendy\, cozy and casual local pizza chain.  Featuring build-your-own pizza pies\, a variety of Italian dishes\, beer\, cocktails & more\, plus vegetarian dishes. \n\n\n\nThis will be the Pre-trip Party for Taos and Japan.    \n\n\n\nGrab a friend and come join the OKC Ski Club for Great Food\, Great Friends\, and Great Fun! \n\n\n\nYou do not have to be a member to attend.Everyone is welcome!
URL:https://okcskiclub.org/event/february-sno-skiers-night-out-6/
LOCATION:Hideaway Pizza\, 5022 N. Western Ave.\, OKC\, Oklahoma\, 73118\, United States
CATEGORIES:Event
ATTACH;FMTTYPE=image/png:https://okcskiclub.org/wp-content/uploads/2024/03/Screenshot-2024-03-21-at-12.55.17 PM.png
END:VEVENT
END:VCALENDAR