BEGIN:VCALENDAR
VERSION:2.0
PRODID:-//OKC Ski Club - ECPv6.15.20//NONSGML v1.0//EN
CALSCALE:GREGORIAN
METHOD:PUBLISH
X-WR-CALNAME:OKC Ski Club
X-ORIGINAL-URL:https://okcskiclub.org
X-WR-CALDESC:Events for OKC Ski Club
REFRESH-INTERVAL;VALUE=DURATION:PT1H
X-Robots-Tag:noindex
X-PUBLISHED-TTL:PT1H
BEGIN:VTIMEZONE
TZID:America/Chicago
BEGIN:DAYLIGHT
TZOFFSETFROM:-0600
TZOFFSETTO:-0500
TZNAME:CDT
DTSTART:20230312T080000
END:DAYLIGHT
BEGIN:STANDARD
TZOFFSETFROM:-0500
TZOFFSETTO:-0600
TZNAME:CST
DTSTART:20231105T070000
END:STANDARD
BEGIN:DAYLIGHT
TZOFFSETFROM:-0600
TZOFFSETTO:-0500
TZNAME:CDT
DTSTART:20240310T080000
END:DAYLIGHT
BEGIN:STANDARD
TZOFFSETFROM:-0500
TZOFFSETTO:-0600
TZNAME:CST
DTSTART:20241103T070000
END:STANDARD
BEGIN:DAYLIGHT
TZOFFSETFROM:-0600
TZOFFSETTO:-0500
TZNAME:CDT
DTSTART:20250309T080000
END:DAYLIGHT
BEGIN:STANDARD
TZOFFSETFROM:-0500
TZOFFSETTO:-0600
TZNAME:CST
DTSTART:20251102T070000
END:STANDARD
END:VTIMEZONE
BEGIN:VEVENT
DTSTART;TZID=America/Chicago:20241211T173000
DTEND;TZID=America/Chicago:20241211T193000
DTSTAMP:20260422T094528
CREATED:20241127T134058Z
LAST-MODIFIED:20241127T134059Z
UID:8392-1733938200-1733945400@okcskiclub.org
SUMMARY:December SNO (Skiers Night Out)
DESCRIPTION:We are hosting December SNO at Tequila Chulos. One of Oklahoma’s premier lively Mexican Cuisine and cocktail experience. Featuring some of the finest tequilas from around the world.  \n\n\n\nThis will be the Pre-trip party for Keystone.  \n\n\n\nGrab a friend and come join the OKC Ski Club for Great Food\, Great Friends\, and Great Fun!  \n\n\n\nYou do not have to be a member to attend.  \n\n\n\nEveryone is welcome! \n\n\n\nTequila Chulos  •  303 NW 62nd St.  •  OKC\, OK 73118
URL:https://okcskiclub.org/event/december-sno-skiers-night-out-5/
LOCATION:Tequila Chulos\, 303 NW 62nd St\, OKC\, Oklahoma\, 73118
CATEGORIES:Event,Save The Date
ATTACH;FMTTYPE=image/png:https://okcskiclub.org/wp-content/uploads/2024/11/Screenshot-2024-11-27-at-7.40.17 AM.png
END:VEVENT
END:VCALENDAR