BEGIN:VCALENDAR
VERSION:2.0
PRODID:-//OKC Ski Club - ECPv6.15.20//NONSGML v1.0//EN
CALSCALE:GREGORIAN
METHOD:PUBLISH
X-ORIGINAL-URL:https://okcskiclub.org
X-WR-CALDESC:Events for OKC Ski Club
REFRESH-INTERVAL;VALUE=DURATION:PT1H
X-Robots-Tag:noindex
X-PUBLISHED-TTL:PT1H
BEGIN:VTIMEZONE
TZID:America/Chicago
BEGIN:DAYLIGHT
TZOFFSETFROM:-0600
TZOFFSETTO:-0500
TZNAME:CDT
DTSTART:20230312T080000
END:DAYLIGHT
BEGIN:STANDARD
TZOFFSETFROM:-0500
TZOFFSETTO:-0600
TZNAME:CST
DTSTART:20231105T070000
END:STANDARD
BEGIN:DAYLIGHT
TZOFFSETFROM:-0600
TZOFFSETTO:-0500
TZNAME:CDT
DTSTART:20240310T080000
END:DAYLIGHT
BEGIN:STANDARD
TZOFFSETFROM:-0500
TZOFFSETTO:-0600
TZNAME:CST
DTSTART:20241103T070000
END:STANDARD
BEGIN:DAYLIGHT
TZOFFSETFROM:-0600
TZOFFSETTO:-0500
TZNAME:CDT
DTSTART:20250309T080000
END:DAYLIGHT
BEGIN:STANDARD
TZOFFSETFROM:-0500
TZOFFSETTO:-0600
TZNAME:CST
DTSTART:20251102T070000
END:STANDARD
END:VTIMEZONE
BEGIN:VEVENT
DTSTART;TZID=America/Chicago:20241106T183000
DTEND;TZID=America/Chicago:20241106T203000
DTSTAMP:20260422T112001
CREATED:20230824T181227Z
LAST-MODIFIED:20240919T215450Z
UID:5939-1730917800-1730925000@okcskiclub.org
SUMMARY:November General Meeting\, Chili Cook-off
DESCRIPTION:The weather is getting cooler and it’s time for some good hot chili. Start fine tuning your best recipe and bring a crock pot full to enter in the annual Ski Club Chili Cook Off Contest. First\, second and third place winners will receive credit towards a ski trip for the 2024-25 ski season. \n\n\n\nIf you are interested in knowing more about our upcoming ski club events\, trips\, or just want to come hang out and meet new friends\, make plans to attend. \n\n\n\nSnacks and drinks will be provided. \n\n\n\nThe meeting will be held from 6:30pm – 8:30pm. \n\n\n\nWill Rogers Garden Exhibition Center  • 3400 NW 36th Street • OKC\, OK 73112
URL:https://okcskiclub.org/event/november-general-meeting-chili-cook-off/
LOCATION:Will Rogers Garden Arboretum\, 3400 NW 36th St\, Oklahoma City\, Oklahoma\, 73112
CATEGORIES:Event,Save The Date
ATTACH;FMTTYPE=image/jpeg:https://okcskiclub.org/wp-content/uploads/2022/08/chili-con-carne-mexican-food-with-beans-in-pot-2021-08-29-09-37-26-utc-scaled.jpg
END:VEVENT
BEGIN:VEVENT
DTSTART;TZID=America/Chicago:20241113T173000
DTEND;TZID=America/Chicago:20241113T193000
DTSTAMP:20260422T112001
CREATED:20240919T183825Z
LAST-MODIFIED:20241006T194204Z
UID:8214-1731519000-1731526200@okcskiclub.org
SUMMARY:November SNO (Skiers Night Out)
DESCRIPTION:We will be hosting November SNO on November 13 at Chisholm’s Club & Saloon.It’s all about music and fun. This will be a non-smoking night. Food will be provided. Must be 21 to attend. The band starts playing at 7:00 so if you love two-stepping and country line dancing\, this is the place to be! From dinner to dancing and plenty of fun steps in between.Grab a friend and come join the OKC Ski Club for Great Food\, Great Friends\, and Great Fun! You do not have to be a member to attend.Everyone is welcome!Chisholm’s Club & Saloon  •  401 S. Meridian •  OKC\, OK
URL:https://okcskiclub.org/event/november-sno-skiers-night-out-5/
LOCATION:Chisholm’s Bar & Saloon\, 401 S. Meridian\, Oklahoma City\, Oklahoma\, 73108\, United States
CATEGORIES:Event
ATTACH;FMTTYPE=image/png:https://okcskiclub.org/wp-content/uploads/2022/12/Chisholms-logo.png
END:VEVENT
END:VCALENDAR