BEGIN:VCALENDAR
VERSION:2.0
PRODID:-//OKC Ski Club - ECPv6.15.20//NONSGML v1.0//EN
CALSCALE:GREGORIAN
METHOD:PUBLISH
X-ORIGINAL-URL:https://okcskiclub.org
X-WR-CALDESC:Events for OKC Ski Club
REFRESH-INTERVAL;VALUE=DURATION:PT1H
X-Robots-Tag:noindex
X-PUBLISHED-TTL:PT1H
BEGIN:VTIMEZONE
TZID:America/Chicago
BEGIN:DAYLIGHT
TZOFFSETFROM:-0600
TZOFFSETTO:-0500
TZNAME:CDT
DTSTART:20230312T080000
END:DAYLIGHT
BEGIN:STANDARD
TZOFFSETFROM:-0500
TZOFFSETTO:-0600
TZNAME:CST
DTSTART:20231105T070000
END:STANDARD
BEGIN:DAYLIGHT
TZOFFSETFROM:-0600
TZOFFSETTO:-0500
TZNAME:CDT
DTSTART:20240310T080000
END:DAYLIGHT
BEGIN:STANDARD
TZOFFSETFROM:-0500
TZOFFSETTO:-0600
TZNAME:CST
DTSTART:20241103T070000
END:STANDARD
BEGIN:DAYLIGHT
TZOFFSETFROM:-0600
TZOFFSETTO:-0500
TZNAME:CDT
DTSTART:20250309T080000
END:DAYLIGHT
BEGIN:STANDARD
TZOFFSETFROM:-0500
TZOFFSETTO:-0600
TZNAME:CST
DTSTART:20251102T070000
END:STANDARD
END:VTIMEZONE
BEGIN:VEVENT
DTSTART;TZID=America/Chicago:20240809T180000
DTEND;TZID=America/Chicago:20240809T200000
DTSTAMP:20260422T154143
CREATED:20240507T173833Z
LAST-MODIFIED:20240808T213306Z
UID:7471-1723226400-1723233600@okcskiclub.org
SUMMARY:Annual Trip Sign-Up Party
DESCRIPTION:Mark your calendar and make plans to join us for the Annual Trip Sign-up Party. This is your chance to sign up and secure your spot(s).  \n\n\n\nThis will be a come and go.  The website will go LIVE beginning at 6:00pm to sign up for the trip(s) you want to attend.  \n\n\n\nSnacks and drinks will be provided.  \n\n\n\n \n\n\n\n\n\n\n\nWill Rogers Garden Exhibition Center • 3400 NW 36th Street • OKC\, OK 73112
URL:https://okcskiclub.org/event/okc-ski-club-2025-trip-release/
LOCATION:Will Rogers Garden Exhibition Center\, Meeting Room 1\, 3400 NW 36th Street\, Oklahoma City\, Oklahoma\, 73112
CATEGORIES:Event
ATTACH;FMTTYPE=image/png:https://okcskiclub.org/wp-content/uploads/2024/05/Screenshot-2024-05-16-at-2.09.13 PM.png
END:VEVENT
BEGIN:VEVENT
DTSTART;TZID=America/Chicago:20240814T173000
DTEND;TZID=America/Chicago:20240814T193000
DTSTAMP:20260422T154143
CREATED:20240628T133359Z
LAST-MODIFIED:20240702T215742Z
UID:7643-1723656600-1723663800@okcskiclub.org
SUMMARY:August SNO (Skiers Night Out)
DESCRIPTION:We are hosting August SNO at McNellie’s Irish Pub.  \nBrewery-style bar serving classic pub grub and 350+ beers. Half-price burgers on Wednesday’s plus Happy Hour drinks. They also offer many vegetarian food options. Free street parking. \nGrab a friend and come join the OKC Ski Club for Great Food\, Great Friends\, and Great Fun! You do not have to be a member to attend. \nEveryone is welcome! \nMcNellie’s OKC Irish Pub  • 1100 Classen Drive  • OKC\, OK
URL:https://okcskiclub.org/event/august-sno-skiers-night-out-6/
LOCATION:McNellies Irish Pub\, 1100 Classen Drive\, Oklahoma CIty\, Oklahoma\, 73103\, United States
CATEGORIES:Event
ATTACH;FMTTYPE=image/png:https://okcskiclub.org/wp-content/uploads/2024/06/Screenshot-2024-06-28-at-8.29.47 AM.png
END:VEVENT
END:VCALENDAR