BEGIN:VCALENDAR
VERSION:2.0
PRODID:-//OKC Ski Club - ECPv6.15.20//NONSGML v1.0//EN
CALSCALE:GREGORIAN
METHOD:PUBLISH
X-WR-CALNAME:OKC Ski Club
X-ORIGINAL-URL:https://okcskiclub.org
X-WR-CALDESC:Events for OKC Ski Club
REFRESH-INTERVAL;VALUE=DURATION:PT1H
X-Robots-Tag:noindex
X-PUBLISHED-TTL:PT1H
BEGIN:VTIMEZONE
TZID:America/Chicago
BEGIN:DAYLIGHT
TZOFFSETFROM:-0600
TZOFFSETTO:-0500
TZNAME:CDT
DTSTART:20230312T080000
END:DAYLIGHT
BEGIN:STANDARD
TZOFFSETFROM:-0500
TZOFFSETTO:-0600
TZNAME:CST
DTSTART:20231105T070000
END:STANDARD
BEGIN:DAYLIGHT
TZOFFSETFROM:-0600
TZOFFSETTO:-0500
TZNAME:CDT
DTSTART:20240310T080000
END:DAYLIGHT
BEGIN:STANDARD
TZOFFSETFROM:-0500
TZOFFSETTO:-0600
TZNAME:CST
DTSTART:20241103T070000
END:STANDARD
BEGIN:DAYLIGHT
TZOFFSETFROM:-0600
TZOFFSETTO:-0500
TZNAME:CDT
DTSTART:20250309T080000
END:DAYLIGHT
BEGIN:STANDARD
TZOFFSETFROM:-0500
TZOFFSETTO:-0600
TZNAME:CST
DTSTART:20251102T070000
END:STANDARD
END:VTIMEZONE
BEGIN:VEVENT
DTSTART;TZID=America/Chicago:20240710T173000
DTEND;TZID=America/Chicago:20240710T193000
DTSTAMP:20260422T171115
CREATED:20240423T131336Z
LAST-MODIFIED:20240423T131337Z
UID:7225-1720632600-1720639800@okcskiclub.org
SUMMARY:July SNO (Skiers Night Out)
DESCRIPTION:We are hosting July SNO at Chisholm’s Club and Saloon.  \nIt’s all about music and fun. This will be a non-smoking night. Must be 21. Food will be provided.  \nThe band starts playing at 7:00 so if you love two-stepping and country line dancing\, this is the place to be! From dinner to dancing and plenty of fun steps in between.  \nGrab a friend and come join the OKC Ski Club for Great Food\, Great Friends\, and Great Fun! You do not have to be a member to attend. \nEveryone is welcome! \nChisholm’s Club & Saloon  • 401 S. Meridian  • OKC\, OK
URL:https://okcskiclub.org/event/july-sno-skiers-night-out-4/
LOCATION:Chisholm’s Saloon\, 401 S. Meridian\, Oklahoma City\, 73108\, United States
CATEGORIES:Event,Save The Date
ATTACH;FMTTYPE=image/png:https://okcskiclub.org/wp-content/uploads/2022/12/Chisholms-logo.png
END:VEVENT
END:VCALENDAR