BEGIN:VCALENDAR
VERSION:2.0
PRODID:-//OKC Ski Club - ECPv6.15.20//NONSGML v1.0//EN
CALSCALE:GREGORIAN
METHOD:PUBLISH
X-ORIGINAL-URL:https://okcskiclub.org
X-WR-CALDESC:Events for OKC Ski Club
REFRESH-INTERVAL;VALUE=DURATION:PT1H
X-Robots-Tag:noindex
X-PUBLISHED-TTL:PT1H
BEGIN:VTIMEZONE
TZID:America/Chicago
BEGIN:DAYLIGHT
TZOFFSETFROM:-0600
TZOFFSETTO:-0500
TZNAME:CDT
DTSTART:20230312T080000
END:DAYLIGHT
BEGIN:STANDARD
TZOFFSETFROM:-0500
TZOFFSETTO:-0600
TZNAME:CST
DTSTART:20231105T070000
END:STANDARD
BEGIN:DAYLIGHT
TZOFFSETFROM:-0600
TZOFFSETTO:-0500
TZNAME:CDT
DTSTART:20240310T080000
END:DAYLIGHT
BEGIN:STANDARD
TZOFFSETFROM:-0500
TZOFFSETTO:-0600
TZNAME:CST
DTSTART:20241103T070000
END:STANDARD
BEGIN:DAYLIGHT
TZOFFSETFROM:-0600
TZOFFSETTO:-0500
TZNAME:CDT
DTSTART:20250309T080000
END:DAYLIGHT
BEGIN:STANDARD
TZOFFSETFROM:-0500
TZOFFSETTO:-0600
TZNAME:CST
DTSTART:20251102T070000
END:STANDARD
END:VTIMEZONE
BEGIN:VEVENT
DTSTART;TZID=America/Chicago:20240612T173000
DTEND;TZID=America/Chicago:20240612T193000
DTSTAMP:20260422T184705
CREATED:20240423T130318Z
LAST-MODIFIED:20240423T131103Z
UID:7209-1718213400-1718220600@okcskiclub.org
SUMMARY:June SNO (Skiers Night Out)
DESCRIPTION:We will be hosting June SNO at 74 Sports Bar & Grill. A fun local restaurant / bar with a patio\, backyard\, dog friendly\, pizza\, cocktails\, wine\, craft beer\, domestics\, train specials and bomb pops! Their happy hour is from 3:00 – 6:30pm. We will be outside on the patio (weather permitting).  \n\n\n\nGrab a friend and come join the OKC Ski Club for Great Food\, Great Friends\, and Great Fun! \n\n\n\nYou do not have to be a member to attend.Everyone is welcome!
URL:https://okcskiclub.org/event/june-sno-skiers-night-out-5/
LOCATION:74 Sports Bar and Grill\, 7412 N. Classen Blvd\, Oklahoma City\, Oklahoma\, 73116\, United States
CATEGORIES:Event
ATTACH;FMTTYPE=image/png:https://okcskiclub.org/wp-content/uploads/2024/04/Screenshot-2024-04-23-at-8.10.42 AM.png
END:VEVENT
BEGIN:VEVENT
DTSTART;TZID=America/Chicago:20240630T133000
DTEND;TZID=America/Chicago:20240630T160000
DTSTAMP:20260422T184705
CREATED:20240605T235030Z
LAST-MODIFIED:20240605T235034Z
UID:7630-1719754200-1719763200@okcskiclub.org
SUMMARY:Wine Tasting Summer Get Together
DESCRIPTION:Come join us for a fun wine tasting at the Clauren Ridge Vineyard & Winery on Sunday\, June 30th. Cost is $7.50 per person\, which includes 5-Wine Tastings of your choice and appetizers to perfectly complement your experience. From the grapes to the bottle\, Clauren Ridge actively participates in the wine-making process and offers varieties ranging from the classics like Cabernet Sauvignon and Chardonnay to their more obscure wines.  \n\n\n\nCost is $7.50 per/person.  Please Venmo your monies to Pam Dunbar\,  @Pam-Dunbar-6 \n\n\n\nOptional Wine Slushies\, Wine Mimosas or glasses of wine are at your own expense.  \n\n\n\nWe will meet on the Outdoor Covered Veranda.   \n\n\n\nClauren Ridge Vineyard & Winery • 6000 Waterloo Road • Edmond\, OK
URL:https://okcskiclub.org/event/wine-tasting-summer-get-together/
LOCATION:Oklahoma
ATTACH;FMTTYPE=image/png:https://okcskiclub.org/wp-content/uploads/2024/06/Screenshot-2024-06-03-at-8.12.14 AM.png
END:VEVENT
END:VCALENDAR