BEGIN:VCALENDAR
VERSION:2.0
PRODID:-//OKC Ski Club - ECPv6.15.20//NONSGML v1.0//EN
CALSCALE:GREGORIAN
METHOD:PUBLISH
X-WR-CALNAME:OKC Ski Club
X-ORIGINAL-URL:https://okcskiclub.org
X-WR-CALDESC:Events for OKC Ski Club
REFRESH-INTERVAL;VALUE=DURATION:PT1H
X-Robots-Tag:noindex
X-PUBLISHED-TTL:PT1H
BEGIN:VTIMEZONE
TZID:America/Chicago
BEGIN:DAYLIGHT
TZOFFSETFROM:-0600
TZOFFSETTO:-0500
TZNAME:CDT
DTSTART:20230312T080000
END:DAYLIGHT
BEGIN:STANDARD
TZOFFSETFROM:-0500
TZOFFSETTO:-0600
TZNAME:CST
DTSTART:20231105T070000
END:STANDARD
BEGIN:DAYLIGHT
TZOFFSETFROM:-0600
TZOFFSETTO:-0500
TZNAME:CDT
DTSTART:20240310T080000
END:DAYLIGHT
BEGIN:STANDARD
TZOFFSETFROM:-0500
TZOFFSETTO:-0600
TZNAME:CST
DTSTART:20241103T070000
END:STANDARD
BEGIN:DAYLIGHT
TZOFFSETFROM:-0600
TZOFFSETTO:-0500
TZNAME:CDT
DTSTART:20250309T080000
END:DAYLIGHT
BEGIN:STANDARD
TZOFFSETFROM:-0500
TZOFFSETTO:-0600
TZNAME:CST
DTSTART:20251102T070000
END:STANDARD
END:VTIMEZONE
BEGIN:VEVENT
DTSTART;TZID=America/Chicago:20240303T000000
DTEND;TZID=America/Chicago:20240321T235959
DTSTAMP:20260422T231948
CREATED:20240215T201421Z
LAST-MODIFIED:20240215T202519Z
UID:7064-1709424000-1711065599@okcskiclub.org
SUMMARY:#5 – 2024 ITALY – ROME\, CANAZEI & VENICE
DESCRIPTION:5 days 5 nights Rome – 6 days 7 nights Canazei (Schloss Hotel Dolomiti – Prestige rooms!) (6 ski days available)Breakfast included in Rome.  Breakfast and dinners included in Canazei.
URL:https://okcskiclub.org/event/5-2024-italy-rome-canazei-venice/
LOCATION:Canazei\, Italy\, Strada Dolomites\, 80\,\, Canazei\, 38032\, Italy
ATTACH;FMTTYPE=image/png:https://okcskiclub.org/wp-content/uploads/2023/03/canazei.png
END:VEVENT
BEGIN:VEVENT
DTSTART;TZID=America/Chicago:20240320T173000
DTEND;TZID=America/Chicago:20240320T193000
DTSTAMP:20260422T231948
CREATED:20240302T134520Z
LAST-MODIFIED:20240302T134521Z
UID:7111-1710955800-1710963000@okcskiclub.org
SUMMARY:March SNO (Skiers Night Out)
DESCRIPTION:We will be hosting March SNO at The Garage Burgers and Beer. They offer mouthwatering burgers\, fresh-cut fries\, and other delectable dishes with a full bar featuring an extensive craft beer list and a unique atmosphere. \n\n\n\nThis will be the Pre-trip party for Copper Mountain! Don’t miss out! \n\n\n\nGrab a friend and come join the OKC Ski Club for Great Food\, Great Friends\, and Great Fun! \n\n\n\nYou do not have to be a member to attend.Everyone is welcome! \n\n\n\n1024 W I-240 Service Road\, Oklahoma City\, OK 73139
URL:https://okcskiclub.org/event/march-sno-skiers-night-out-5/
LOCATION:The Garage Burgers & Beer\, 1024 W I-240 Service Road\, Oklahoma City\, Oklahoma\, 73139\, United States
ATTACH;FMTTYPE=image/png:https://okcskiclub.org/wp-content/uploads/2024/03/Screenshot-2024-02-22-at-7.49.10 AM-e1709386980101.png
END:VEVENT
END:VCALENDAR