BEGIN:VCALENDAR
VERSION:2.0
PRODID:-//OKC Ski Club - ECPv6.15.20//NONSGML v1.0//EN
CALSCALE:GREGORIAN
METHOD:PUBLISH
X-ORIGINAL-URL:https://okcskiclub.org
X-WR-CALDESC:Events for OKC Ski Club
REFRESH-INTERVAL;VALUE=DURATION:PT1H
X-Robots-Tag:noindex
X-PUBLISHED-TTL:PT1H
BEGIN:VTIMEZONE
TZID:America/Chicago
BEGIN:DAYLIGHT
TZOFFSETFROM:-0600
TZOFFSETTO:-0500
TZNAME:CDT
DTSTART:20230312T080000
END:DAYLIGHT
BEGIN:STANDARD
TZOFFSETFROM:-0500
TZOFFSETTO:-0600
TZNAME:CST
DTSTART:20231105T070000
END:STANDARD
BEGIN:DAYLIGHT
TZOFFSETFROM:-0600
TZOFFSETTO:-0500
TZNAME:CDT
DTSTART:20240310T080000
END:DAYLIGHT
BEGIN:STANDARD
TZOFFSETFROM:-0500
TZOFFSETTO:-0600
TZNAME:CST
DTSTART:20241103T070000
END:STANDARD
BEGIN:DAYLIGHT
TZOFFSETFROM:-0600
TZOFFSETTO:-0500
TZNAME:CDT
DTSTART:20250309T080000
END:DAYLIGHT
BEGIN:STANDARD
TZOFFSETFROM:-0500
TZOFFSETTO:-0600
TZNAME:CST
DTSTART:20251102T070000
END:STANDARD
END:VTIMEZONE
BEGIN:VEVENT
DTSTART;TZID=America/Chicago:20240207T173000
DTEND;TZID=America/Chicago:20240207T193000
DTSTAMP:20260423T005252
CREATED:20240109T174540Z
LAST-MODIFIED:20240109T174541Z
UID:6981-1707327000-1707334200@okcskiclub.org
SUMMARY:February SNO (Skiers Night Out)
DESCRIPTION:We will be hosting February SNO at Deep Deuce Grill\, located in the history rich district known as Deep Deuce close to downtown OKC. \nSpecializing in casual grub\, made from scratch fresh food and unique menu items along with draft brews plus an outdoor patio with a fire pit.\nThis will be the Pre-trip party for Taos! Don’t miss out! \nGrab a friend and come join the OKC Ski Club for Great Food\, Great Friends\, and Great Fun! \nYou do not have to be a member to attend.Everyone is welcome! \n  \nDeep Deuce Grill  •  307 N.E. 2nd Street  •  OKC\, OK
URL:https://okcskiclub.org/event/february-sno-skiers-night-out-5/
LOCATION:Deep Deuce Grill\, 307 NE 2nd St\, Oklahoma City\, OK\, 73104\, United States
CATEGORIES:Event
ATTACH;FMTTYPE=image/png:https://okcskiclub.org/wp-content/uploads/2023/01/Screen-Shot-2023-01-14-at-4.33.36-PM.png
END:VEVENT
END:VCALENDAR