BEGIN:VCALENDAR
VERSION:2.0
PRODID:-//OKC Ski Club - ECPv6.15.20//NONSGML v1.0//EN
CALSCALE:GREGORIAN
METHOD:PUBLISH
X-ORIGINAL-URL:https://okcskiclub.org
X-WR-CALDESC:Events for OKC Ski Club
REFRESH-INTERVAL;VALUE=DURATION:PT1H
X-Robots-Tag:noindex
X-PUBLISHED-TTL:PT1H
BEGIN:VTIMEZONE
TZID:America/Chicago
BEGIN:DAYLIGHT
TZOFFSETFROM:-0600
TZOFFSETTO:-0500
TZNAME:CDT
DTSTART:20230312T080000
END:DAYLIGHT
BEGIN:STANDARD
TZOFFSETFROM:-0500
TZOFFSETTO:-0600
TZNAME:CST
DTSTART:20231105T070000
END:STANDARD
BEGIN:DAYLIGHT
TZOFFSETFROM:-0600
TZOFFSETTO:-0500
TZNAME:CDT
DTSTART:20240310T080000
END:DAYLIGHT
BEGIN:STANDARD
TZOFFSETFROM:-0500
TZOFFSETTO:-0600
TZNAME:CST
DTSTART:20241103T070000
END:STANDARD
BEGIN:DAYLIGHT
TZOFFSETFROM:-0600
TZOFFSETTO:-0500
TZNAME:CDT
DTSTART:20250309T080000
END:DAYLIGHT
BEGIN:STANDARD
TZOFFSETFROM:-0500
TZOFFSETTO:-0600
TZNAME:CST
DTSTART:20251102T070000
END:STANDARD
END:VTIMEZONE
BEGIN:VEVENT
DTSTART;TZID=America/Chicago:20240104T190000
DTEND;TZID=America/Chicago:20240104T203000
DTSTAMP:20260423T022808
CREATED:20221012T160012Z
LAST-MODIFIED:20231126T183608Z
UID:4337-1704394800-1704400200@okcskiclub.org
SUMMARY:January General Meeting\, Spaghetti Dinner
DESCRIPTION:Plan on joining us for our annual Spaghetti Dinner \n\n\n\nIf you are interested in knowing more about our upcoming ski club events\, trips\, etc or just want to come hang out and meet new friends\, make plans to attend. \n\n\n\nSpaghetti and drinks will be provided\, but please bring an appetizer or dessert. \n\n\n\nThe meeting will be held from 7:00pm – 8:30pm. \n\n\n\nWill Rogers Garden Exhibition Center\, Meeting Room 1 • 3400 NW 36th Street • OKC\, OK 73112
URL:https://okcskiclub.org/event/january-general-meeting-spaghetti-dinner-3/
LOCATION:Will Rogers Garden Center\, 3400 NW 36th Street\, Oklahoma City\, Oklahoma\, 73112
CATEGORIES:Event,Save The Date
ATTACH;FMTTYPE=image/png:https://okcskiclub.org/wp-content/uploads/2022/10/Screen-Shot-2022-10-12-at-10.59.00-AM.png
END:VEVENT
BEGIN:VEVENT
DTSTART;TZID=America/Chicago:20240110T173000
DTEND;TZID=America/Chicago:20240110T193000
DTSTAMP:20260423T022808
CREATED:20221201T155739Z
LAST-MODIFIED:20231228T155606Z
UID:4392-1704907800-1704915000@okcskiclub.org
SUMMARY:January SNO (Skiers Night Out)
DESCRIPTION:We are hosting January SNO at Chisholm’s Club and Saloon.  \nIt’s all about music and fun. This will be a non-smoking night. Food will be provided.  \nThis will be the pre-trip party for Wolf Creek and Steamboat. T-shirts for Steamboat will be distributed\, so come pick yours up for the trip! \nThe band starts playing at 7:00 so if you love two-stepping and country line dancing\, this is the place to be! From dinner to dancing and plenty of fun steps in between. Must be 21. \nGrab a friend and come join the OKC Ski Club for Great Food\, Great Friends\, and Great Fun! You do not have to be a member to attend. \nEveryone is welcome! \nChisholm’s Club & Saloon  • 401 S. Meridian  • OKC\, OK
URL:https://okcskiclub.org/event/january-sno-skiers-night-out-3/
LOCATION:Chisholm’s Saloon\, 401 S. Meridian\, Oklahoma City\, 73108\, United States
CATEGORIES:Event,Save The Date
ATTACH;FMTTYPE=image/png:https://okcskiclub.org/wp-content/uploads/2022/12/Chisholms-logo.png
END:VEVENT
END:VCALENDAR