BEGIN:VCALENDAR
VERSION:2.0
PRODID:-//OKC Ski Club - ECPv6.15.20//NONSGML v1.0//EN
CALSCALE:GREGORIAN
METHOD:PUBLISH
X-WR-CALNAME:OKC Ski Club
X-ORIGINAL-URL:https://okcskiclub.org
X-WR-CALDESC:Events for OKC Ski Club
REFRESH-INTERVAL;VALUE=DURATION:PT1H
X-Robots-Tag:noindex
X-PUBLISHED-TTL:PT1H
BEGIN:VTIMEZONE
TZID:America/Chicago
BEGIN:DAYLIGHT
TZOFFSETFROM:-0600
TZOFFSETTO:-0500
TZNAME:CDT
DTSTART:20220313T080000
END:DAYLIGHT
BEGIN:STANDARD
TZOFFSETFROM:-0500
TZOFFSETTO:-0600
TZNAME:CST
DTSTART:20221106T070000
END:STANDARD
BEGIN:DAYLIGHT
TZOFFSETFROM:-0600
TZOFFSETTO:-0500
TZNAME:CDT
DTSTART:20230312T080000
END:DAYLIGHT
BEGIN:STANDARD
TZOFFSETFROM:-0500
TZOFFSETTO:-0600
TZNAME:CST
DTSTART:20231105T070000
END:STANDARD
BEGIN:DAYLIGHT
TZOFFSETFROM:-0600
TZOFFSETTO:-0500
TZNAME:CDT
DTSTART:20240310T080000
END:DAYLIGHT
BEGIN:STANDARD
TZOFFSETFROM:-0500
TZOFFSETTO:-0600
TZNAME:CST
DTSTART:20241103T070000
END:STANDARD
END:VTIMEZONE
BEGIN:VEVENT
DTSTART;TZID=America/Chicago:20231108T190000
DTEND;TZID=America/Chicago:20231108T203000
DTSTAMP:20260423T052431
CREATED:20231023T202353Z
LAST-MODIFIED:20231023T202354Z
UID:6642-1699470000-1699475400@okcskiclub.org
SUMMARY:November SNO (Skiers Night Out)
DESCRIPTION:We will be hosting November SNO at Industry Gastro Pub\, located near Quail Springs Mall. They are a scratch kitchen with great fresh steaks\, burgers\, pizza and more! Plus a great selection of wine\, beer and cocktails! This will be the Pre-trip party for our first trip to Winter Park! Don’t miss out! \n\n\n\nGrab a friend and come join the OKC Ski Club for Great Food\, Great Friends\, and Great Fun! You do not have to be a member to attend.Everyone is welcome!
URL:https://okcskiclub.org/event/november-sno-skiers-night-out-4/
LOCATION:Industry Gastro Pub\, 2800 NW 140th\, Oklahoma City\, Oklahoma\, 73120
CATEGORIES:Event,Save The Date
ATTACH;FMTTYPE=image/jpeg:https://okcskiclub.org/wp-content/uploads/2022/10/Industry.jpeg
END:VEVENT
END:VCALENDAR