BEGIN:VCALENDAR
VERSION:2.0
PRODID:-//OKC Ski Club - ECPv6.15.20//NONSGML v1.0//EN
CALSCALE:GREGORIAN
METHOD:PUBLISH
X-WR-CALNAME:OKC Ski Club
X-ORIGINAL-URL:https://okcskiclub.org
X-WR-CALDESC:Events for OKC Ski Club
REFRESH-INTERVAL;VALUE=DURATION:PT1H
X-Robots-Tag:noindex
X-PUBLISHED-TTL:PT1H
BEGIN:VTIMEZONE
TZID:America/Chicago
BEGIN:DAYLIGHT
TZOFFSETFROM:-0600
TZOFFSETTO:-0500
TZNAME:CDT
DTSTART:20220313T080000
END:DAYLIGHT
BEGIN:STANDARD
TZOFFSETFROM:-0500
TZOFFSETTO:-0600
TZNAME:CST
DTSTART:20221106T070000
END:STANDARD
BEGIN:DAYLIGHT
TZOFFSETFROM:-0600
TZOFFSETTO:-0500
TZNAME:CDT
DTSTART:20230312T080000
END:DAYLIGHT
BEGIN:STANDARD
TZOFFSETFROM:-0500
TZOFFSETTO:-0600
TZNAME:CST
DTSTART:20231105T070000
END:STANDARD
BEGIN:DAYLIGHT
TZOFFSETFROM:-0600
TZOFFSETTO:-0500
TZNAME:CDT
DTSTART:20240310T080000
END:DAYLIGHT
BEGIN:STANDARD
TZOFFSETFROM:-0500
TZOFFSETTO:-0600
TZNAME:CST
DTSTART:20241103T070000
END:STANDARD
END:VTIMEZONE
BEGIN:VEVENT
DTSTART;TZID=America/Chicago:20230913T173000
DTEND;TZID=America/Chicago:20230913T193000
DTSTAMP:20260423T080758
CREATED:20230824T164353Z
LAST-MODIFIED:20230824T164355Z
UID:5926-1694626200-1694633400@okcskiclub.org
SUMMARY:September SNO (Skiers Night Out)
DESCRIPTION:We are hosting September SNO at Bricktown Brewery – Remington Park \n\n\n\nOffering incredible dining favorites with many vegetarian options\, a full service bar and handcrafted beers.  Enjoy a truly unique experience with a full view of the track and live horse racing which is the best seat in the house along the inside Rail.  \n\n\n\nTake the escalator upstairs & the Bricktown Brewery restaurant is located just off the casino floor.   \n\n\n\nThoroughbred Season with live racing at 7:07pm \n\n\n\nHappy Hour. 4:00-7:00pm  \n\n\n\nGrab a friend and come join the OKC Ski Club for Great Food\, Great Friends\, and Great Fun! You do not have to be a member to attend. \n\n\n\nEveryone is welcome! \n\n\n\nBricktown Brewery  • 1 Remington Place  • OKC\, OK 73111
URL:https://okcskiclub.org/event/september-sno-skiers-night-out-6/
LOCATION:Bricktown Brewery Remington Park\, 1 Remington Place\, Oklahoma City\, Oklahoma\, 73111\, United States
CATEGORIES:Event,Save The Date
ATTACH;FMTTYPE=application/pdf:https://okcskiclub.org/wp-content/uploads/2023/05/Bricktown-Brewery-2.pdf
END:VEVENT
END:VCALENDAR