BEGIN:VCALENDAR
VERSION:2.0
PRODID:-//OKC Ski Club - ECPv6.15.20//NONSGML v1.0//EN
CALSCALE:GREGORIAN
METHOD:PUBLISH
X-ORIGINAL-URL:https://okcskiclub.org
X-WR-CALDESC:Events for OKC Ski Club
REFRESH-INTERVAL;VALUE=DURATION:PT1H
X-Robots-Tag:noindex
X-PUBLISHED-TTL:PT1H
BEGIN:VTIMEZONE
TZID:America/Chicago
BEGIN:DAYLIGHT
TZOFFSETFROM:-0600
TZOFFSETTO:-0500
TZNAME:CDT
DTSTART:20220313T080000
END:DAYLIGHT
BEGIN:STANDARD
TZOFFSETFROM:-0500
TZOFFSETTO:-0600
TZNAME:CST
DTSTART:20221106T070000
END:STANDARD
BEGIN:DAYLIGHT
TZOFFSETFROM:-0600
TZOFFSETTO:-0500
TZNAME:CDT
DTSTART:20230312T080000
END:DAYLIGHT
BEGIN:STANDARD
TZOFFSETFROM:-0500
TZOFFSETTO:-0600
TZNAME:CST
DTSTART:20231105T070000
END:STANDARD
BEGIN:DAYLIGHT
TZOFFSETFROM:-0600
TZOFFSETTO:-0500
TZNAME:CDT
DTSTART:20240310T080000
END:DAYLIGHT
BEGIN:STANDARD
TZOFFSETFROM:-0500
TZOFFSETTO:-0600
TZNAME:CST
DTSTART:20241103T070000
END:STANDARD
END:VTIMEZONE
BEGIN:VEVENT
DTSTART;TZID=America/Chicago:20230712T173000
DTEND;TZID=America/Chicago:20230712T193000
DTSTAMP:20260423T104817
CREATED:20230508T211927Z
LAST-MODIFIED:20230707T154310Z
UID:4723-1689183000-1689190200@okcskiclub.org
SUMMARY:July SNO (Skiers Night Out)
DESCRIPTION:We are hosting July SNO at Hollywood Corners. \n\n\n\nToby Keith’s Hollywood Corners is a casual family restaurant and bar with live music on the outdoor stage featuring the Cooksey Band that night. While this Norman restaurant does serve classic barbecue sandwiches\, it’s best known for its flatbread sandwiches like the Western Swing. \n\n\n\nGrab a friend and come join the OKC Ski Club for Great Food\, Great Friends\, and Great Fun! You do not have to be a member to attend. \n\n\n\nEveryone is welcome!
URL:https://okcskiclub.org/event/july-sno-skiers-night-out-3/
LOCATION:Hollywood Corners\, 4712 N Porter Ave\, Norman\, Oklahoma\, 73071\, United States
CATEGORIES:Event
ATTACH;FMTTYPE=image/jpeg:https://okcskiclub.org/wp-content/uploads/2023/05/Hollywood-Corners.jpeg
END:VEVENT
END:VCALENDAR