BEGIN:VCALENDAR
VERSION:2.0
PRODID:-//OKC Ski Club - ECPv6.15.20//NONSGML v1.0//EN
CALSCALE:GREGORIAN
METHOD:PUBLISH
X-WR-CALNAME:OKC Ski Club
X-ORIGINAL-URL:https://okcskiclub.org
X-WR-CALDESC:Events for OKC Ski Club
REFRESH-INTERVAL;VALUE=DURATION:PT1H
X-Robots-Tag:noindex
X-PUBLISHED-TTL:PT1H
BEGIN:VTIMEZONE
TZID:America/Chicago
BEGIN:DAYLIGHT
TZOFFSETFROM:-0600
TZOFFSETTO:-0500
TZNAME:CDT
DTSTART:20220313T080000
END:DAYLIGHT
BEGIN:STANDARD
TZOFFSETFROM:-0500
TZOFFSETTO:-0600
TZNAME:CST
DTSTART:20221106T070000
END:STANDARD
BEGIN:DAYLIGHT
TZOFFSETFROM:-0600
TZOFFSETTO:-0500
TZNAME:CDT
DTSTART:20230312T080000
END:DAYLIGHT
BEGIN:STANDARD
TZOFFSETFROM:-0500
TZOFFSETTO:-0600
TZNAME:CST
DTSTART:20231105T070000
END:STANDARD
BEGIN:DAYLIGHT
TZOFFSETFROM:-0600
TZOFFSETTO:-0500
TZNAME:CDT
DTSTART:20240310T080000
END:DAYLIGHT
BEGIN:STANDARD
TZOFFSETFROM:-0500
TZOFFSETTO:-0600
TZNAME:CST
DTSTART:20241103T070000
END:STANDARD
END:VTIMEZONE
BEGIN:VEVENT
DTSTART;TZID=America/Chicago:20230510T173000
DTEND;TZID=America/Chicago:20230510T193000
DTSTAMP:20260423T133740
CREATED:20230501T160327Z
LAST-MODIFIED:20230501T161306Z
UID:4709-1683739800-1683747000@okcskiclub.org
SUMMARY:May SNO (Skiers Night Out)
DESCRIPTION:We are hosting May SNO at Nashbird Hot Dang! Chicken.  \n\n\n\nWe will meet on the outdoor patio. Happy Hour starts at 5:00pm.  \n\n\n\nNASHBIRD is a Nashville-style Hot Chicken Restaurant and Bar serving the Best HOT DANG Chicken in OK!  This Hot Chicken restaurant is a fun place where people can gather for tasty food . . . from bar snacks and Hot Dang! meals to beer and cold Dang! Good cocktails.   \n\n\n\nGrab a friend and come join the OKC Ski Club for Great Food\, Great Friends\, and Great Fun! You do not have to be a member to attend. \n\n\n\nEveryone is welcome! \n\n\n\nNashbird  • 1 NW 9th  • OKC\, OK 73102
URL:https://okcskiclub.org/event/may-sno-skiers-night-out-3/
LOCATION:Oklahoma
CATEGORIES:Event,Save The Date
ATTACH;FMTTYPE=image/png:https://okcskiclub.org/wp-content/uploads/2023/05/Nashbird.png
END:VEVENT
END:VCALENDAR