BEGIN:VCALENDAR
VERSION:2.0
PRODID:-//OKC Ski Club - ECPv6.15.20//NONSGML v1.0//EN
CALSCALE:GREGORIAN
METHOD:PUBLISH
X-WR-CALNAME:OKC Ski Club
X-ORIGINAL-URL:https://okcskiclub.org
X-WR-CALDESC:Events for OKC Ski Club
REFRESH-INTERVAL;VALUE=DURATION:PT1H
X-Robots-Tag:noindex
X-PUBLISHED-TTL:PT1H
BEGIN:VTIMEZONE
TZID:America/Chicago
BEGIN:DAYLIGHT
TZOFFSETFROM:-0600
TZOFFSETTO:-0500
TZNAME:CDT
DTSTART:20220313T080000
END:DAYLIGHT
BEGIN:STANDARD
TZOFFSETFROM:-0500
TZOFFSETTO:-0600
TZNAME:CST
DTSTART:20221106T070000
END:STANDARD
BEGIN:DAYLIGHT
TZOFFSETFROM:-0600
TZOFFSETTO:-0500
TZNAME:CDT
DTSTART:20230312T080000
END:DAYLIGHT
BEGIN:STANDARD
TZOFFSETFROM:-0500
TZOFFSETTO:-0600
TZNAME:CST
DTSTART:20231105T070000
END:STANDARD
BEGIN:DAYLIGHT
TZOFFSETFROM:-0600
TZOFFSETTO:-0500
TZNAME:CDT
DTSTART:20240310T080000
END:DAYLIGHT
BEGIN:STANDARD
TZOFFSETFROM:-0500
TZOFFSETTO:-0600
TZNAME:CST
DTSTART:20241103T070000
END:STANDARD
END:VTIMEZONE
BEGIN:VEVENT
DTSTART;TZID=America/Chicago:20230309T190000
DTEND;TZID=America/Chicago:20230309T203000
DTSTAMP:20260423T161809
CREATED:20230114T224924Z
LAST-MODIFIED:20230228T161058Z
UID:4438-1678388400-1678393800@okcskiclub.org
SUMMARY:March General Meeting - Pot O'Luck
DESCRIPTION:Wherever you go and whatever you do\, may the Pot O’Luck Dinner be the place you choose.\n\nCome join us for Cheers\, Beers and Pot Luck!\n\nBring your favorite dish to share with all. As usual\, beverages will be provided and we will have the monthly door prize drawings.  \n\nThis will be our last general meeting for a while\, so this meeting will also include an opportunity to vote on ski club officers for next year.\n\n  \n\nTHE OLIE GATHERING PLACE\n2412 N. Olie\, OKC\, OK 73106\n\nSome parking is available in The Olie parking lot\, but it is very limited! There is also some street parking\, a lot at First Presbyterian Church and at the Dove Science Academy.\n\n\n 
URL:https://okcskiclub.org/event/march-general-meeting-pot-oluck/
LOCATION:The Olie Gathering Place\, 2412 N. Olie Ave\, Oklahoma City\, OK\, 73106\, United States
CATEGORIES:Event
ATTACH;FMTTYPE=image/png:https://okcskiclub.org/wp-content/uploads/2023/01/Screen-Shot-2023-01-14-at-4.47.09-PM.png
END:VEVENT
BEGIN:VEVENT
DTSTART;TZID=America/Chicago:20230315T173000
DTEND;TZID=America/Chicago:20230315T193000
DTSTAMP:20260423T161809
CREATED:20230224T155024Z
LAST-MODIFIED:20230228T172737Z
UID:4473-1678901400-1678908600@okcskiclub.org
SUMMARY:March SNO (Skiers Night Out)
DESCRIPTION:We will be hosting March SNO at McNellies Irish Pub located in the Midtown Plaza Court District. Serving classic brewery-style pub grub with an extensive beer list including over 350 beers.  \n\n\n\nHappy Hour available and Wednesday is $4.99 Burger Night.  \n\n\n\nGrab a friend and come join the OKC Ski Club for Great Food\, Great Friends\, and Great Fun! You do not have to be a member to attend.Everyone is welcome!
URL:https://okcskiclub.org/event/march-sno-skiers-night-out-4/
LOCATION:McNellie’s Irish Pub\, 1100 Classen Drive\, Oklahoma City\, Oklahoma\, United States
CATEGORIES:Event,Save The Date
ATTACH;FMTTYPE=image/png:https://okcskiclub.org/wp-content/uploads/2023/02/Screen-Shot-2023-02-24-at-9.39.45-AM.png
END:VEVENT
END:VCALENDAR