BEGIN:VCALENDAR
VERSION:2.0
PRODID:-//OKC Ski Club - ECPv6.15.20//NONSGML v1.0//EN
CALSCALE:GREGORIAN
METHOD:PUBLISH
X-ORIGINAL-URL:https://okcskiclub.org
X-WR-CALDESC:Events for OKC Ski Club
REFRESH-INTERVAL;VALUE=DURATION:PT1H
X-Robots-Tag:noindex
X-PUBLISHED-TTL:PT1H
BEGIN:VTIMEZONE
TZID:America/Chicago
BEGIN:DAYLIGHT
TZOFFSETFROM:-0600
TZOFFSETTO:-0500
TZNAME:CDT
DTSTART:20210314T080000
END:DAYLIGHT
BEGIN:STANDARD
TZOFFSETFROM:-0500
TZOFFSETTO:-0600
TZNAME:CST
DTSTART:20211107T070000
END:STANDARD
BEGIN:DAYLIGHT
TZOFFSETFROM:-0600
TZOFFSETTO:-0500
TZNAME:CDT
DTSTART:20220313T080000
END:DAYLIGHT
BEGIN:STANDARD
TZOFFSETFROM:-0500
TZOFFSETTO:-0600
TZNAME:CST
DTSTART:20221106T070000
END:STANDARD
BEGIN:DAYLIGHT
TZOFFSETFROM:-0600
TZOFFSETTO:-0500
TZNAME:CDT
DTSTART:20230312T080000
END:DAYLIGHT
BEGIN:STANDARD
TZOFFSETFROM:-0500
TZOFFSETTO:-0600
TZNAME:CST
DTSTART:20231105T070000
END:STANDARD
END:VTIMEZONE
BEGIN:VEVENT
DTSTART;TZID=America/Chicago:20221103T190000
DTEND;TZID=America/Chicago:20221103T203000
DTSTAMP:20260423T221807
CREATED:20221012T160834Z
LAST-MODIFIED:20221012T161050Z
UID:4243-1667502000-1667507400@okcskiclub.org
SUMMARY:November General Meeting\, Chili Cook-off
DESCRIPTION:The weather is getting cooler and its time for some good hot chili. Start fine tuning your best recipe and bring a crock pot full to enter in the annual Ski Club Chili Cook Off Contest. First\, second and third place winners will receive credit towards a ski trip for this 2022-23 ski season. \n\n\n\nIf you are interested in knowing more about our upcoming ski club events\, trips\, etc or just want to come hang out and meet new friends\, make plans to attend. \n\n\n\nSnacks and drinks will be provided. \n\n\n\nSome parking is available in The Olie parking lot\, but it is very limited. There is also street parking\, a lot at First Presbyterian Church or at the Dove Science Academy. \n\n\n\nThe meeting will be held from 7:00pm – 8:30pm. \n\n\n\nThe Olie Gathering Place. •. 2412 N. Olie Ave. • OKC\, OK 73106
URL:https://okcskiclub.org/event/november-general-meeting-chili-cook-off-2/
LOCATION:The Olie Gathering Place\, 2412 N. Olie Ave\, Oklahoma City\, OK\, 73106\, United States
CATEGORIES:Event,Save The Date
ATTACH;FMTTYPE=image/jpeg:https://okcskiclub.org/wp-content/uploads/2022/08/chili-con-carne-mexican-food-with-beans-in-pot-2021-08-29-09-37-26-utc-scaled.jpg
END:VEVENT
BEGIN:VEVENT
DTSTART;TZID=America/Chicago:20221109T173000
DTEND;TZID=America/Chicago:20221109T193000
DTSTAMP:20260423T221807
CREATED:20221012T163911Z
LAST-MODIFIED:20221012T164046Z
UID:4345-1668015000-1668022200@okcskiclub.org
SUMMARY:November SNO (Skiers Night Out)
DESCRIPTION:We will be hosting November SNO at Industry Gastro Pub\, located near Quail Springs Mall. They are a scratch kitchen with great fresh steaks\, burgers\, pizza and more! Plus a great selection of wine\, beer and cocktails! This will be the Pre-trip party for our first trip to Telluride! Don’t miss out! \n\n\n\nGrab a friend and come join the OKC Ski Club for Great Food\, Great Friends\, and Great Fun! You do not have to be a member to attend.Everyone is welcome!
URL:https://okcskiclub.org/event/november-sno-skiers-night-out-3/
LOCATION:Industry Gastro Pub\, 2800 NW 140th St\, OKC\, Oklahoma\, 73142\, United States
CATEGORIES:Event,Save The Date
ATTACH;FMTTYPE=image/jpeg:https://okcskiclub.org/wp-content/uploads/2022/10/Industry.jpeg
END:VEVENT
END:VCALENDAR