BEGIN:VCALENDAR
VERSION:2.0
PRODID:-//OKC Ski Club - ECPv6.15.20//NONSGML v1.0//EN
CALSCALE:GREGORIAN
METHOD:PUBLISH
X-WR-CALNAME:OKC Ski Club
X-ORIGINAL-URL:https://okcskiclub.org
X-WR-CALDESC:Events for OKC Ski Club
REFRESH-INTERVAL;VALUE=DURATION:PT1H
X-Robots-Tag:noindex
X-PUBLISHED-TTL:PT1H
BEGIN:VTIMEZONE
TZID:America/Chicago
BEGIN:DAYLIGHT
TZOFFSETFROM:-0600
TZOFFSETTO:-0500
TZNAME:CDT
DTSTART:20210314T080000
END:DAYLIGHT
BEGIN:STANDARD
TZOFFSETFROM:-0500
TZOFFSETTO:-0600
TZNAME:CST
DTSTART:20211107T070000
END:STANDARD
BEGIN:DAYLIGHT
TZOFFSETFROM:-0600
TZOFFSETTO:-0500
TZNAME:CDT
DTSTART:20220313T080000
END:DAYLIGHT
BEGIN:STANDARD
TZOFFSETFROM:-0500
TZOFFSETTO:-0600
TZNAME:CST
DTSTART:20221106T070000
END:STANDARD
BEGIN:DAYLIGHT
TZOFFSETFROM:-0600
TZOFFSETTO:-0500
TZNAME:CDT
DTSTART:20230312T080000
END:DAYLIGHT
BEGIN:STANDARD
TZOFFSETFROM:-0500
TZOFFSETTO:-0600
TZNAME:CST
DTSTART:20231105T070000
END:STANDARD
END:VTIMEZONE
BEGIN:VEVENT
DTSTART;TZID=America/Chicago:20221012T173000
DTEND;TZID=America/Chicago:20221012T193000
DTSTAMP:20260423T234416
CREATED:20220920T140237Z
LAST-MODIFIED:20220920T141810Z
UID:4290-1665595800-1665603000@okcskiclub.org
SUMMARY:October SNO (Skiers Night Out)
DESCRIPTION:We will be hosting October SNO at Mama Roja Mexican Kitchen. They are guaranteed to have the perfect dish for you with craveable food\, savory bites\, and a fresh twist on Mexican Cuisine. Grab a margarita or cerveza and escape from the ordinary with some of the best views in town on Lake Hefner.  \n\n\n\nGrab a friend and come join the OKC Ski Club for Great Food\, Great Friends\, and Great Fun! You do not have to be a member to attend.Everyone is welcome!
URL:https://okcskiclub.org/event/october-sno-skiers-night-out-4/
LOCATION:Mama Roja\, 9219 Lake Hefner Parkway\, Oklahoma City\, Oklahoma\, 73120\, United States
CATEGORIES:Event,Save The Date
ATTACH;FMTTYPE=image/png:https://okcskiclub.org/wp-content/uploads/2022/09/Screen-Shot-2022-09-20-at-9.04.42-AM.png
END:VEVENT
END:VCALENDAR