BEGIN:VCALENDAR
VERSION:2.0
PRODID:-//OKC Ski Club - ECPv6.15.20//NONSGML v1.0//EN
CALSCALE:GREGORIAN
METHOD:PUBLISH
X-WR-CALNAME:OKC Ski Club
X-ORIGINAL-URL:https://okcskiclub.org
X-WR-CALDESC:Events for OKC Ski Club
REFRESH-INTERVAL;VALUE=DURATION:PT1H
X-Robots-Tag:noindex
X-PUBLISHED-TTL:PT1H
BEGIN:VTIMEZONE
TZID:America/Chicago
BEGIN:DAYLIGHT
TZOFFSETFROM:-0600
TZOFFSETTO:-0500
TZNAME:CDT
DTSTART:20210314T080000
END:DAYLIGHT
BEGIN:STANDARD
TZOFFSETFROM:-0500
TZOFFSETTO:-0600
TZNAME:CST
DTSTART:20211107T070000
END:STANDARD
BEGIN:DAYLIGHT
TZOFFSETFROM:-0600
TZOFFSETTO:-0500
TZNAME:CDT
DTSTART:20220313T080000
END:DAYLIGHT
BEGIN:STANDARD
TZOFFSETFROM:-0500
TZOFFSETTO:-0600
TZNAME:CST
DTSTART:20221106T070000
END:STANDARD
BEGIN:DAYLIGHT
TZOFFSETFROM:-0600
TZOFFSETTO:-0500
TZNAME:CDT
DTSTART:20230312T080000
END:DAYLIGHT
BEGIN:STANDARD
TZOFFSETFROM:-0500
TZOFFSETTO:-0600
TZNAME:CST
DTSTART:20231105T070000
END:STANDARD
END:VTIMEZONE
BEGIN:VTIMEZONE
TZID:America/New_York
BEGIN:DAYLIGHT
TZOFFSETFROM:-0500
TZOFFSETTO:-0400
TZNAME:EDT
DTSTART:20210314T070000
END:DAYLIGHT
BEGIN:STANDARD
TZOFFSETFROM:-0400
TZOFFSETTO:-0500
TZNAME:EST
DTSTART:20211107T060000
END:STANDARD
BEGIN:DAYLIGHT
TZOFFSETFROM:-0500
TZOFFSETTO:-0400
TZNAME:EDT
DTSTART:20220313T070000
END:DAYLIGHT
BEGIN:STANDARD
TZOFFSETFROM:-0400
TZOFFSETTO:-0500
TZNAME:EST
DTSTART:20221106T060000
END:STANDARD
BEGIN:DAYLIGHT
TZOFFSETFROM:-0500
TZOFFSETTO:-0400
TZNAME:EDT
DTSTART:20230312T070000
END:DAYLIGHT
BEGIN:STANDARD
TZOFFSETFROM:-0400
TZOFFSETTO:-0500
TZNAME:EST
DTSTART:20231105T060000
END:STANDARD
END:VTIMEZONE
BEGIN:VEVENT
DTSTART;TZID=America/Chicago:20220810T173000
DTEND;TZID=America/Chicago:20220810T193000
DTSTAMP:20260424T024215
CREATED:20220729T223039Z
LAST-MODIFIED:20220729T223118Z
UID:3602-1660152600-1660159800@okcskiclub.org
SUMMARY:August SNO (Skiers night out)
DESCRIPTION:Located in the Beautiful First National Center\, downstairs in the basement\, then you enter into “The Vault” which was once the vault of the former bank. Cocktails and Latin inspired finger foods are served. \n\n\n\nGrab a friend and come join the OKC Ski Club for Great Food\, Great Friends\, and Great Fun! You do not have to be a member to attend.Everyone is welcome! \n\n\n\nLocated on the corner of Robinson and Park.Street parking is readily available after 5:00pm.
URL:https://okcskiclub.org/event/august-sno-skiers-night-out-4/
LOCATION:The Vault – Library of Distilled Spirits\, 120 N. Robinson\, Oklahoma City\, Oklahoma
ATTACH;FMTTYPE=image/png:https://okcskiclub.org/wp-content/uploads/2022/07/TheVault.png
END:VEVENT
BEGIN:VEVENT
DTSTART;TZID=America/New_York:20220820T160000
DTEND;TZID=America/New_York:20220820T180000
DTSTAMP:20260424T024215
CREATED:20220601T235720Z
LAST-MODIFIED:20220808T232755Z
UID:2950-1661011200-1661018400@okcskiclub.org
SUMMARY:2022 - 23 Trip Sign Up Party
DESCRIPTION:The 2022-2023 ski season is going to be here before we realize\, so it’s time to sign up for the trip or trips of your choice. Make plans now to attend the OKC Ski Club annual trip sign up party.\n\n \nAugust 20th\n4 pm to 6pm\n\n \nAngry Scotsman Brewing\n704 W Reno Ave\, Oklahoma City\, OK 73102\n \nAn urban microbrewery in downtown OKC\, featuring a broad selection of craft beers inspired by the travels of the Angry Scot.\n \nSign up early to reserve your spot on upcoming trips. Trips go fast so mark your calendar now!\n \n 
URL:https://okcskiclub.org/event/sign-up-party-2/
LOCATION:Angry Scotsman Brewing\, 704 W. Reno Ave\, Oklahoma City\, OK\, 73102\, United States
CATEGORIES:Save The Date
ATTACH;FMTTYPE=image/png:https://okcskiclub.org/wp-content/uploads/2022/06/Ad-Slides-031.png
END:VEVENT
BEGIN:VEVENT
DTSTART;VALUE=DATE:20220825
DTEND;VALUE=DATE:20220907
DTSTAMP:20260424T024215
CREATED:20220628T180306Z
LAST-MODIFIED:20220628T180306Z
UID:3124-1661385600-1662508799@okcskiclub.org
SUMMARY:Trip #6 - Chile Valle Nevado (Full)
DESCRIPTION:Leave the heat and humidity of Oklahoma in August and fly directly south to Santiago Chile for a South American winter.
URL:https://okcskiclub.org/event/trip-6-chile-valle-nevado-full/
LOCATION:Valle Nevado\, Avenida Vitacura 5250 of. 304\, Vitacura\, Region Metropolitana\, Chile
ATTACH;FMTTYPE=image/jpeg:https://okcskiclub.org/wp-content/uploads/2022/06/Valle-Nevado_Mesa-de-trabajo-1-2048x6251-1.jpg
END:VEVENT
END:VCALENDAR