BEGIN:VCALENDAR
VERSION:2.0
PRODID:-//OKC Ski Club - ECPv6.15.20//NONSGML v1.0//EN
CALSCALE:GREGORIAN
METHOD:PUBLISH
X-WR-CALNAME:OKC Ski Club
X-ORIGINAL-URL:https://okcskiclub.org
X-WR-CALDESC:Events for OKC Ski Club
REFRESH-INTERVAL;VALUE=DURATION:PT1H
X-Robots-Tag:noindex
X-PUBLISHED-TTL:PT1H
BEGIN:VTIMEZONE
TZID:America/New_York
BEGIN:DAYLIGHT
TZOFFSETFROM:-0500
TZOFFSETTO:-0400
TZNAME:EDT
DTSTART:20210314T070000
END:DAYLIGHT
BEGIN:STANDARD
TZOFFSETFROM:-0400
TZOFFSETTO:-0500
TZNAME:EST
DTSTART:20211107T060000
END:STANDARD
BEGIN:DAYLIGHT
TZOFFSETFROM:-0500
TZOFFSETTO:-0400
TZNAME:EDT
DTSTART:20220313T070000
END:DAYLIGHT
BEGIN:STANDARD
TZOFFSETFROM:-0400
TZOFFSETTO:-0500
TZNAME:EST
DTSTART:20221106T060000
END:STANDARD
BEGIN:DAYLIGHT
TZOFFSETFROM:-0500
TZOFFSETTO:-0400
TZNAME:EDT
DTSTART:20230312T070000
END:DAYLIGHT
BEGIN:STANDARD
TZOFFSETFROM:-0400
TZOFFSETTO:-0500
TZNAME:EST
DTSTART:20231105T060000
END:STANDARD
END:VTIMEZONE
BEGIN:VEVENT
DTSTART;TZID=America/New_York:20220413T173000
DTEND;TZID=America/New_York:20220413T193000
DTSTAMP:20260424T085531
CREATED:20220409T135623Z
LAST-MODIFIED:20220409T135623Z
UID:2933-1649871000-1649878200@okcskiclub.org
SUMMARY:April SNO (Skiers Night Out)
DESCRIPTION:April 13th  •  5:30pm – 7:30pm \nWe are hosting April SNO at Chisholm’s Club and Saloon.  \nLocated in the Biltmore Hotel on Meridian. It’s all about music and fun. Happy Hour is from 5-7:00pm. The band starts playing at 7:00 so if you love two-stepping and country line dancing\, this is the place to be! From dinner to dancing and plenty of fun steps in between. Must be 21. \n\nGrab a friend and come join the OKC Ski Club for Great Food\, Great Friends\, and Great Fun! You do not have to be a member to attend. \nEveryone is welcome! \nChisholm’s Club & Saloon  • 401 S. Meridian  • OKC\, OK
URL:https://okcskiclub.org/event/april-sno-skiers-night-out-2/
LOCATION:Chisholm’s Saloon\, 401 S. Meridian\, Oklahoma City\, 73108\, United States
CATEGORIES:Save The Date
END:VEVENT
END:VCALENDAR