BEGIN:VCALENDAR
VERSION:2.0
PRODID:-//OKC Ski Club - ECPv6.15.20//NONSGML v1.0//EN
CALSCALE:GREGORIAN
METHOD:PUBLISH
X-ORIGINAL-URL:https://okcskiclub.org
X-WR-CALDESC:Events for OKC Ski Club
REFRESH-INTERVAL;VALUE=DURATION:PT1H
X-Robots-Tag:noindex
X-PUBLISHED-TTL:PT1H
BEGIN:VTIMEZONE
TZID:America/New_York
BEGIN:DAYLIGHT
TZOFFSETFROM:-0500
TZOFFSETTO:-0400
TZNAME:EDT
DTSTART:20210314T070000
END:DAYLIGHT
BEGIN:STANDARD
TZOFFSETFROM:-0400
TZOFFSETTO:-0500
TZNAME:EST
DTSTART:20211107T060000
END:STANDARD
BEGIN:DAYLIGHT
TZOFFSETFROM:-0500
TZOFFSETTO:-0400
TZNAME:EDT
DTSTART:20220313T070000
END:DAYLIGHT
BEGIN:STANDARD
TZOFFSETFROM:-0400
TZOFFSETTO:-0500
TZNAME:EST
DTSTART:20221106T060000
END:STANDARD
BEGIN:DAYLIGHT
TZOFFSETFROM:-0500
TZOFFSETTO:-0400
TZNAME:EDT
DTSTART:20230312T070000
END:DAYLIGHT
BEGIN:STANDARD
TZOFFSETFROM:-0400
TZOFFSETTO:-0500
TZNAME:EST
DTSTART:20231105T060000
END:STANDARD
END:VTIMEZONE
BEGIN:VEVENT
DTSTART;TZID=America/New_York:20220303T190000
DTEND;TZID=America/New_York:20220303T203000
DTSTAMP:20260424T102823
CREATED:20220131T161254Z
LAST-MODIFIED:20220225T185018Z
UID:2921-1646334000-1646339400@okcskiclub.org
SUMMARY:March General Meeting - Pot O'Luck Dinner
DESCRIPTION:Wherever you go and whatever you do\, may the Pot O’Luck Dinner be the place you choose. \nCome join us for Cheers\, Beers and Pot Luck! \nBring your favorite dish to share with all. As usual\, beverages will be provided and we will have the monthly door prize drawings.   \nThis will be our last general meeting for a while\, so this meeting will also include an opportunity to vote on ski club officers for next year. \n   \nTHE OLIE GATHERING PLACE\n2412 N. Olie\, OKC\, OK 73106 \n\nSome parking is available in The Olie parking lot\, but it is very limited! There is also some street parking\, a lot at First Presbyterian Church and at the Dove Science Academy.\n \n 
URL:https://okcskiclub.org/event/march-general-meeting-pot-oluck-dinner/
LOCATION:The Olie Gathering Place\, 2412 N. Olie Ave\, Oklahoma City\, OK\, 73106\, United States
CATEGORIES:Save The Date
END:VEVENT
BEGIN:VEVENT
DTSTART;TZID=America/New_York:20220309T170000
DTEND;TZID=America/New_York:20220309T193000
DTSTAMP:20260424T102823
CREATED:20220225T184929Z
LAST-MODIFIED:20220225T184929Z
UID:2924-1646845200-1646854200@okcskiclub.org
SUMMARY:March SNO (Skiers Night Out)
DESCRIPTION:We are hosting March SNO at Deep Deuce Grill.  \nLocated in the history rich district known as Deep Deuce.  Established in 2002\, we are well known as one of the best patios in the metro area. Specializing in made from scratch fresh food and unique menu items.  \nGrab a friend and come join the OKC Ski Club for Great Food\, Great Friends\, and Great Fun! You do not have to be a member to attend. \nEveryone is welcome! \nDeep Deuce Grill  • 307 NE 2nd St  • OKC\, OK 73104
URL:https://okcskiclub.org/event/march-sno-skiers-night-out-3/
LOCATION:Deep Deuce Grill\, 307 NE 2nd St\, Oklahoma City\, OK\, 73104\, United States
CATEGORIES:Save The Date
END:VEVENT
END:VCALENDAR