BEGIN:VCALENDAR
VERSION:2.0
PRODID:-//OKC Ski Club - ECPv6.15.20//NONSGML v1.0//EN
CALSCALE:GREGORIAN
METHOD:PUBLISH
X-WR-CALNAME:OKC Ski Club
X-ORIGINAL-URL:https://okcskiclub.org
X-WR-CALDESC:Events for OKC Ski Club
REFRESH-INTERVAL;VALUE=DURATION:PT1H
X-Robots-Tag:noindex
X-PUBLISHED-TTL:PT1H
BEGIN:VTIMEZONE
TZID:America/New_York
BEGIN:DAYLIGHT
TZOFFSETFROM:-0500
TZOFFSETTO:-0400
TZNAME:EDT
DTSTART:20210314T070000
END:DAYLIGHT
BEGIN:STANDARD
TZOFFSETFROM:-0400
TZOFFSETTO:-0500
TZNAME:EST
DTSTART:20211107T060000
END:STANDARD
BEGIN:DAYLIGHT
TZOFFSETFROM:-0500
TZOFFSETTO:-0400
TZNAME:EDT
DTSTART:20220313T070000
END:DAYLIGHT
BEGIN:STANDARD
TZOFFSETFROM:-0400
TZOFFSETTO:-0500
TZNAME:EST
DTSTART:20221106T060000
END:STANDARD
BEGIN:DAYLIGHT
TZOFFSETFROM:-0500
TZOFFSETTO:-0400
TZNAME:EDT
DTSTART:20230312T070000
END:DAYLIGHT
BEGIN:STANDARD
TZOFFSETFROM:-0400
TZOFFSETTO:-0500
TZNAME:EST
DTSTART:20231105T060000
END:STANDARD
END:VTIMEZONE
BEGIN:VTIMEZONE
TZID:UTC
BEGIN:STANDARD
TZOFFSETFROM:+0000
TZOFFSETTO:+0000
TZNAME:UTC
DTSTART:20210101T000000
END:STANDARD
END:VTIMEZONE
BEGIN:VEVENT
DTSTART;TZID=America/New_York:20220106T190000
DTEND;TZID=America/New_York:20220106T203000
DTSTAMP:20260424T133753
CREATED:20211117T230011Z
LAST-MODIFIED:20221012T155521Z
UID:2902-1641495600-1641501000@okcskiclub.org
SUMMARY:January General Meeting - Spaghetti Dinner
DESCRIPTION:Plan on joining us for our annual Spaghetti Dinner\n\nIf you are interested in knowing more about our upcoming ski club events\, trips\, etc or just want to come hang out and meet new friends\, make plans to attend.\n\nSpaghetti and drinks will be provided\, but please bring an appetizer or dessert.\n\nSome parking is available in The Olie parking lot\, but it is very limited. There is also street parking\, a lot at First Presbyterian Church or at the Dove Science Academy.\n\nThe meeting will be held from 7:00pm – 8:30pm.\n\nThe Olie Gathering Place. •. 2412 N. Olie Ave. • OKC\, OK 73106
URL:https://okcskiclub.org/event/january-general-meeting-spaghetti-dinner-2/
LOCATION:The Olie Gathering Place\, 2412 N. Olie Ave\, Oklahoma City\, OK\, 73106\, United States
CATEGORIES:Save The Date
END:VEVENT
BEGIN:VEVENT
DTSTART;TZID=UTC:20220112T173000
DTEND;TZID=UTC:20220112T193000
DTSTAMP:20260424T133753
CREATED:20211223T144838Z
LAST-MODIFIED:20211230T150251Z
UID:2909-1642008600-1642015800@okcskiclub.org
SUMMARY:January SNO (Skiers Night Out)
DESCRIPTION:We are hosting January SNO at Iguana Mexican Grill. This will be the pre-trip party for Wolf Creek and Telluride \nGrab a friend and come join the OKC Ski Club for Great Food\, Great Friends\, and Great Fun! You do not have to be a member to attend. \n\nEveryone is welcome!
URL:https://okcskiclub.org/event/january-sno-skiers-night-out-2/
LOCATION:Iguana Mexican Grill\, 9 NW 9th Street\, Oklahoma CIty\, OK\, 73102\, United States
CATEGORIES:Save The Date
END:VEVENT
END:VCALENDAR