BEGIN:VCALENDAR
VERSION:2.0
PRODID:-//OKC Ski Club - ECPv6.15.20//NONSGML v1.0//EN
CALSCALE:GREGORIAN
METHOD:PUBLISH
X-ORIGINAL-URL:https://okcskiclub.org
X-WR-CALDESC:Events for OKC Ski Club
REFRESH-INTERVAL;VALUE=DURATION:PT1H
X-Robots-Tag:noindex
X-PUBLISHED-TTL:PT1H
BEGIN:VTIMEZONE
TZID:America/New_York
BEGIN:DAYLIGHT
TZOFFSETFROM:-0500
TZOFFSETTO:-0400
TZNAME:EDT
DTSTART:20200308T070000
END:DAYLIGHT
BEGIN:STANDARD
TZOFFSETFROM:-0400
TZOFFSETTO:-0500
TZNAME:EST
DTSTART:20201101T060000
END:STANDARD
BEGIN:DAYLIGHT
TZOFFSETFROM:-0500
TZOFFSETTO:-0400
TZNAME:EDT
DTSTART:20210314T070000
END:DAYLIGHT
BEGIN:STANDARD
TZOFFSETFROM:-0400
TZOFFSETTO:-0500
TZNAME:EST
DTSTART:20211107T060000
END:STANDARD
BEGIN:DAYLIGHT
TZOFFSETFROM:-0500
TZOFFSETTO:-0400
TZNAME:EDT
DTSTART:20220313T070000
END:DAYLIGHT
BEGIN:STANDARD
TZOFFSETFROM:-0400
TZOFFSETTO:-0500
TZNAME:EST
DTSTART:20221106T060000
END:STANDARD
END:VTIMEZONE
BEGIN:VEVENT
DTSTART;TZID=America/New_York:20210804T173000
DTEND;TZID=America/New_York:20210804T193000
DTSTAMP:20260424T213214
CREATED:20210704T141438Z
LAST-MODIFIED:20210704T141448Z
UID:2790-1628098200-1628105400@okcskiclub.org
SUMMARY:August SNO (Skiers Night Out)
DESCRIPTION:Riversport OKC – Indoor Ski Slope  \nThe OKC Ski Club has rented the Riversport OKC Indoor Ski Slope for the exclusive use of our members on Wednesday\, August 4th from 5:30-7:30pm.  Come join us for some August alpine skiing and snow boarding!  The Big Water Bar & Grill will be open for food and beverage purchases.  Because this is a unique event\, members will get priority.  But we welcome NEW members too!  Come on down and join our club for a sneak peak at OKC’s newest adventure! \nBoots and socks are provided\, but feel free to bring your own. \nIf you plan to attend\, please sign a waiver in advance https://roller.app/riversport/waiver/#/ \nAnother reason to become a member of our club\, Riversport OKC is offering a 50% discount on their RIVERSPORT+ Seasonal Membership.  This membership takes you to the next level by adding premium experiences such as skiing Ski OKC\, zip lining\, an extra raft trip each time you visit\, free lockers\, express lines and a 20% discount on food\, retail and summer camps. Plus\, you’ll get four free Discover experiences\, premium fitness\, and unlimited Endurance group workouts and Explore group excursions. Bikes and One Wheels. \nAll of that in addition to a full season (March thru October) of whitewater rafting\, tubing\, surfing\, flatwater kayaking\, SUP\, and all land adventures including the Sky Trail\, Sky Slides\, Rumble Drop\, climbing\, the youth zone and more! For qualified paddlers\, get on the water for river boarding and whitewater kayaking. Grab a meal in Big Water Grill and relax on one of our outdoor decks. Your RIVERSPORT+ membership can be used in the Boathouse District\, at Lake Overholser and Lake Hefner. Secure footwear – no slides\, flip flops or Crocs – required for all activities. Must be ages 8+\, minimum 55 lbs to raft. \nhttps://roller.app/riversport/products/oklahomaskiclub#/sessions
URL:https://okcskiclub.org/event/august-sno-skiers-night-out-3/
LOCATION:RIVERSPORT OKC\, 800 Riversport Drive\, Oklahoma City\, OK\, 73129\, United States
CATEGORIES:Save The Date
END:VEVENT
BEGIN:VEVENT
DTSTART;TZID=America/New_York:20210828T160000
DTEND;TZID=America/New_York:20210828T180000
DTSTAMP:20260424T213214
CREATED:20210704T141958Z
LAST-MODIFIED:20210809T135244Z
UID:2794-1630166400-1630173600@okcskiclub.org
SUMMARY:2021 - 2022 Sign Up Party
DESCRIPTION:The 2021-2022 ski season is just a couple months away.  The Trip List has been finalized and it’s time to sign up for the trip or trips of your choice.\n\nCome join the OKC Ski Club for the annual Sign Up Party\nRoyal Bavaria Restaurant Beer Garden\n3401 S Sooner Road\, Moore OK\nAugust 28th\n4 pm to 6pm.\n\nGerman snacks will be provided and beer from the onsite brewery will be available for purchase.\nSign up early to reserve your spot on upcoming trips. Trips go fast so mark your calendar now!
URL:https://okcskiclub.org/event/2021-2022-sign-up-party/
LOCATION:Royal Bavaria\, 3401 S Sooner Road\, Oklahoma City\, OK\, 73105\, United States
CATEGORIES:Save The Date
END:VEVENT
END:VCALENDAR