BEGIN:VCALENDAR
VERSION:2.0
PRODID:-//OKC Ski Club - ECPv6.15.20//NONSGML v1.0//EN
CALSCALE:GREGORIAN
METHOD:PUBLISH
X-WR-CALNAME:OKC Ski Club
X-ORIGINAL-URL:https://okcskiclub.org
X-WR-CALDESC:Events for OKC Ski Club
REFRESH-INTERVAL;VALUE=DURATION:PT1H
X-Robots-Tag:noindex
X-PUBLISHED-TTL:PT1H
BEGIN:VTIMEZONE
TZID:America/New_York
BEGIN:DAYLIGHT
TZOFFSETFROM:-0500
TZOFFSETTO:-0400
TZNAME:EDT
DTSTART:20200308T070000
END:DAYLIGHT
BEGIN:STANDARD
TZOFFSETFROM:-0400
TZOFFSETTO:-0500
TZNAME:EST
DTSTART:20201101T060000
END:STANDARD
BEGIN:DAYLIGHT
TZOFFSETFROM:-0500
TZOFFSETTO:-0400
TZNAME:EDT
DTSTART:20210314T070000
END:DAYLIGHT
BEGIN:STANDARD
TZOFFSETFROM:-0400
TZOFFSETTO:-0500
TZNAME:EST
DTSTART:20211107T060000
END:STANDARD
BEGIN:DAYLIGHT
TZOFFSETFROM:-0500
TZOFFSETTO:-0400
TZNAME:EDT
DTSTART:20220313T070000
END:DAYLIGHT
BEGIN:STANDARD
TZOFFSETFROM:-0400
TZOFFSETTO:-0500
TZNAME:EST
DTSTART:20221106T060000
END:STANDARD
END:VTIMEZONE
BEGIN:VEVENT
DTSTART;TZID=America/New_York:20210310T173000
DTEND;TZID=America/New_York:20210310T193000
DTSTAMP:20260425T053354
CREATED:20210220T164329Z
LAST-MODIFIED:20210310T025413Z
UID:2740-1615397400-1615404600@okcskiclub.org
SUMMARY:March General Meeting and SNO (Skiers Night Out)
DESCRIPTION:Our March General Meeting and SNO (Skiers Night Out) will be held at\n1492 Latin Cuisine Restaurant\nLocated at 1207 N. Walker in Midtown OKC\nMarch 10th from 5:30-7:30pm\nBustling bar & grill serving Latin-inspired dishes & Tex-Mex standards in upbeat modern environs.\nYou do not have to be a member to attend. Grab a friend and come meet the OKC Ski Club.\nParking is behind the building to the west.\nMark your calendar now and come join the OKC Ski Club. \nYou do not have to be a member to attend. Everyone is welcome! Grab a friend or two and come meet up with fellow skiers.
URL:https://okcskiclub.org/event/march-general-meeting-and-sno-skiers-night-out/
LOCATION:1492 Latin Cuisine\, 1207 N. Walker\, Oklahoma City\, OK\, United States
CATEGORIES:Save The Date
ORGANIZER;CN="":MAILTO:kathy.veros@gmail.com
END:VEVENT
END:VCALENDAR