BEGIN:VCALENDAR
VERSION:2.0
PRODID:-//OKC Ski Club - ECPv6.15.20//NONSGML v1.0//EN
CALSCALE:GREGORIAN
METHOD:PUBLISH
X-WR-CALNAME:OKC Ski Club
X-ORIGINAL-URL:https://okcskiclub.org
X-WR-CALDESC:Events for OKC Ski Club
REFRESH-INTERVAL;VALUE=DURATION:PT1H
X-Robots-Tag:noindex
X-PUBLISHED-TTL:PT1H
BEGIN:VTIMEZONE
TZID:America/New_York
BEGIN:DAYLIGHT
TZOFFSETFROM:-0500
TZOFFSETTO:-0400
TZNAME:EDT
DTSTART:20190310T070000
END:DAYLIGHT
BEGIN:STANDARD
TZOFFSETFROM:-0400
TZOFFSETTO:-0500
TZNAME:EST
DTSTART:20191103T060000
END:STANDARD
BEGIN:DAYLIGHT
TZOFFSETFROM:-0500
TZOFFSETTO:-0400
TZNAME:EDT
DTSTART:20200308T070000
END:DAYLIGHT
BEGIN:STANDARD
TZOFFSETFROM:-0400
TZOFFSETTO:-0500
TZNAME:EST
DTSTART:20201101T060000
END:STANDARD
BEGIN:DAYLIGHT
TZOFFSETFROM:-0500
TZOFFSETTO:-0400
TZNAME:EDT
DTSTART:20210314T070000
END:DAYLIGHT
BEGIN:STANDARD
TZOFFSETFROM:-0400
TZOFFSETTO:-0500
TZNAME:EST
DTSTART:20211107T060000
END:STANDARD
END:VTIMEZONE
BEGIN:VEVENT
DTSTART;TZID=America/New_York:20201111T173000
DTEND;TZID=America/New_York:20201111T193000
DTSTAMP:20260425T115534
CREATED:20201031T141433Z
LAST-MODIFIED:20201102T195643Z
UID:2669-1605115800-1605123000@okcskiclub.org
SUMMARY:November General Meeting and SNO (Skiers Night Out)
DESCRIPTION:We will be combining our November General Meeting and SNO (Skiers Night Out). Come join your fellow ski club members at Deep Deuce Grill for an evening out and to discuss trips\, etc. for this season. You do not have to be a member to attend. Everyone is welcome! Grab a friend or two and come meet the club.
URL:https://okcskiclub.org/event/november-sno-and-general-meeting/
LOCATION:Deep Deuce Grill\, 307 NE 2nd St\, Oklahoma City\, OK\, 73104\, United States
CATEGORIES:Save The Date
END:VEVENT
END:VCALENDAR