BEGIN:VCALENDAR
VERSION:2.0
PRODID:-//OKC Ski Club - ECPv6.15.20//NONSGML v1.0//EN
CALSCALE:GREGORIAN
METHOD:PUBLISH
X-ORIGINAL-URL:https://okcskiclub.org
X-WR-CALDESC:Events for OKC Ski Club
REFRESH-INTERVAL;VALUE=DURATION:PT1H
X-Robots-Tag:noindex
X-PUBLISHED-TTL:PT1H
BEGIN:VTIMEZONE
TZID:America/New_York
BEGIN:DAYLIGHT
TZOFFSETFROM:-0500
TZOFFSETTO:-0400
TZNAME:EDT
DTSTART:20190310T070000
END:DAYLIGHT
BEGIN:STANDARD
TZOFFSETFROM:-0400
TZOFFSETTO:-0500
TZNAME:EST
DTSTART:20191103T060000
END:STANDARD
BEGIN:DAYLIGHT
TZOFFSETFROM:-0500
TZOFFSETTO:-0400
TZNAME:EDT
DTSTART:20200308T070000
END:DAYLIGHT
BEGIN:STANDARD
TZOFFSETFROM:-0400
TZOFFSETTO:-0500
TZNAME:EST
DTSTART:20201101T060000
END:STANDARD
BEGIN:DAYLIGHT
TZOFFSETFROM:-0500
TZOFFSETTO:-0400
TZNAME:EDT
DTSTART:20210314T070000
END:DAYLIGHT
BEGIN:STANDARD
TZOFFSETFROM:-0400
TZOFFSETTO:-0500
TZNAME:EST
DTSTART:20211107T060000
END:STANDARD
END:VTIMEZONE
BEGIN:VEVENT
DTSTART;TZID=America/New_York:20200909T173000
DTEND;TZID=America/New_York:20200909T193000
DTSTAMP:20260425T150349
CREATED:20200902T173134Z
LAST-MODIFIED:20200902T173134Z
UID:2631-1599672600-1599679800@okcskiclub.org
SUMMARY:September SNO (Skiers Night Out)
DESCRIPTION:Come join your fellow ski club members at CHICK-N-BEER for an evening out. \nIf you have not been to C-N-B\, their wings are made from Crystal Lake’s free range chicken and all the beers on tap hail from Oklahoma’s finest breweries. \nYou do not have to be a member to attend so come check out the fun and meet new friends. \n 
URL:https://okcskiclub.org/event/september-sno-skiers-night-out-2/
LOCATION:Chick-N-Beer\, 715 NW 23rd St\, Oklahoma City\, OK\, 73103
CATEGORIES:Save The Date
END:VEVENT
END:VCALENDAR