BEGIN:VCALENDAR
VERSION:2.0
PRODID:-//OKC Ski Club - ECPv6.15.20//NONSGML v1.0//EN
CALSCALE:GREGORIAN
METHOD:PUBLISH
X-WR-CALNAME:OKC Ski Club
X-ORIGINAL-URL:https://okcskiclub.org
X-WR-CALDESC:Events for OKC Ski Club
REFRESH-INTERVAL;VALUE=DURATION:PT1H
X-Robots-Tag:noindex
X-PUBLISHED-TTL:PT1H
BEGIN:VTIMEZONE
TZID:America/Chicago
BEGIN:DAYLIGHT
TZOFFSETFROM:-0600
TZOFFSETTO:-0500
TZNAME:CDT
DTSTART:20240310T080000
END:DAYLIGHT
BEGIN:STANDARD
TZOFFSETFROM:-0500
TZOFFSETTO:-0600
TZNAME:CST
DTSTART:20241103T070000
END:STANDARD
BEGIN:DAYLIGHT
TZOFFSETFROM:-0600
TZOFFSETTO:-0500
TZNAME:CDT
DTSTART:20250309T080000
END:DAYLIGHT
BEGIN:STANDARD
TZOFFSETFROM:-0500
TZOFFSETTO:-0600
TZNAME:CST
DTSTART:20251102T070000
END:STANDARD
BEGIN:DAYLIGHT
TZOFFSETFROM:-0600
TZOFFSETTO:-0500
TZNAME:CDT
DTSTART:20260308T080000
END:DAYLIGHT
BEGIN:STANDARD
TZOFFSETFROM:-0500
TZOFFSETTO:-0600
TZNAME:CST
DTSTART:20261101T070000
END:STANDARD
BEGIN:DAYLIGHT
TZOFFSETFROM:-0600
TZOFFSETTO:-0500
TZNAME:CDT
DTSTART:20270314T080000
END:DAYLIGHT
BEGIN:STANDARD
TZOFFSETFROM:-0500
TZOFFSETTO:-0600
TZNAME:CST
DTSTART:20271107T070000
END:STANDARD
END:VTIMEZONE
BEGIN:VEVENT
DTSTART;TZID=America/Chicago:20251001T183000
DTEND;TZID=America/Chicago:20251001T203000
DTSTAMP:20260421T194708
CREATED:20250828T202958Z
LAST-MODIFIED:20250828T202959Z
UID:9820-1759343400-1759350600@okcskiclub.org
SUMMARY:October General Meeting - Oktoberfest
DESCRIPTION:We’re excited to kick off the 2025–26 ski season with our first general meeting on October 1st\, celebrating Oktoberfest at the Will Rogers Garden Exhibition Center. \n\n\n\nJoin us to learn more about upcoming ski club events and trips—or simply come enjoy the evening\, connect with friends\, and meet new faces. \n\n\n\nSnacks and drinks will be provided. \n\n\n\nThe meeting will be held from 6:30pm – 8:30pm. \n\n\n\nWill Rogers Garden Exhibition Center\, Meeting Room 1 • 3400 NW 36th Street • OKC\, OK 73112
URL:https://okcskiclub.org/event/october-general-meeting-oktoberfest-2/
LOCATION:Will Rogers Garden Arboretum\, 3400 NW 36th St\, Oklahoma City\, Oklahoma\, 73112
CATEGORIES:Event,Save The Date
ATTACH;FMTTYPE=image/png:https://okcskiclub.org/wp-content/uploads/2022/08/Screenshot-2023-08-24-at-1.15.11-PM.png
END:VEVENT
BEGIN:VEVENT
DTSTART;TZID=America/Chicago:20251008T173000
DTEND;TZID=America/Chicago:20251008T193000
DTSTAMP:20260421T194708
CREATED:20250807T180216Z
LAST-MODIFIED:20250807T180217Z
UID:9775-1759944600-1759951800@okcskiclub.org
SUMMARY:October SNO (Skiers Night Out)
DESCRIPTION:Join us for the October SNO at Republic Gastropub! A contemporary neighboring beer house gathering place which offers standout dishes and a vast beer selection along with a zippy wine list.  Many Vegetarian options to choose from.  \n\n\n\nCome early and take advantage of their Happy Hour which is available from 2:00pm-6:00pm.  \n\n\n\nGrab a friend and come join the OKC Ski Club for Great Food\, Great Friends\, and Great Fun! \n\n\n\nYou do not have to be a member to attend.  Everyone is welcome!
URL:https://okcskiclub.org/event/october-sno-skiers-night-out-6/
LOCATION:Republic Gastropub\, 5830 N. Classen Blvd\, Oklahoma City\, Oklahoma\, 73118\, United States
ATTACH;FMTTYPE=image/png:https://okcskiclub.org/wp-content/uploads/2025/08/Screenshot-2025-08-07-at-12.59.09-PM-scaled.png
END:VEVENT
BEGIN:VEVENT
DTSTART;TZID=America/Chicago:20251105T183000
DTEND;TZID=America/Chicago:20251105T203000
DTSTAMP:20260421T194708
CREATED:20250828T203850Z
LAST-MODIFIED:20251029T122207Z
UID:9822-1762367400-1762374600@okcskiclub.org
SUMMARY:November General Meeting\, Chili Cook-off
DESCRIPTION:The weather’s cooling down\, which means it’s the perfect time for some hot\, delicious chili! Sharpen up your best recipe and bring a crockpot full to compete in the Annual Ski Club Chili Cook-Off. Winners will take home 1st\, 2nd\, and 3rd place prizes—each worth credit toward a ski trip in the 2025–26 season. \n\n\n\nNot a chili chef? No problem! You are welcome to bring a dessert or just come taste\, vote\, and enjoy the evening while learning about upcoming ski club trips and events—or simply hang out\, reconnect with friends\, and meet new ones. \n\n\n\nSnacks and drinks will be provided. \n\n\n\nThe meeting will be held from 6:30pm – 8:30pm. \n\n\n\nWill Rogers Garden Exhibition Center  • 3400 NW 36th Street • OKC\, OK 73112
URL:https://okcskiclub.org/event/november-general-meeting-chili-cook-off-3/
LOCATION:Will Rogers Garden Arboretum\, 3400 NW 36th St\, Oklahoma City\, Oklahoma\, 73112
CATEGORIES:Event,Save The Date
ATTACH;FMTTYPE=image/jpeg:https://okcskiclub.org/wp-content/uploads/2022/08/chili-con-carne-mexican-food-with-beans-in-pot-2021-08-29-09-37-26-utc-scaled.jpg
END:VEVENT
BEGIN:VEVENT
DTSTART;TZID=America/Chicago:20251112T173000
DTEND;TZID=America/Chicago:20251112T193000
DTSTAMP:20260421T194708
CREATED:20250829T153440Z
LAST-MODIFIED:20251024T172418Z
UID:9829-1762968600-1762975800@okcskiclub.org
SUMMARY:November SNO (Skiers Night Out)
DESCRIPTION:Join us for the November SNO at Eddie’s (Chisholm Creek)! Local eatery known for its wings and big portions of award-winning wings\, burgers and pasta.  \n\n\n\nThis will be the pre-trip party for Big Sky. \n\n\n\nGrab a friend and come join the OKC Ski Club for Great Food\, Great Friends\, and Great Fun! \n\n\n\nYou do not have to be a member to attend.  Everyone is welcome!
URL:https://okcskiclub.org/event/november-sno-skiers-night-out-6/
LOCATION:Eddie’s (Chisholm Creek)\, 13230 Pawnee Dr #115\, Oklahoma City\, Oklahoma\, 73114\, United States
ATTACH;FMTTYPE=image/png:https://okcskiclub.org/wp-content/uploads/2025/08/Screenshot-2025-08-29-at-10.34.05-AM.png
END:VEVENT
BEGIN:VEVENT
DTSTART;TZID=America/Chicago:20251203T183000
DTEND;TZID=America/Chicago:20251203T183000
DTSTAMP:20260421T194708
CREATED:20231023T204600Z
LAST-MODIFIED:20251102T233513Z
UID:6645-1764786600-1764786600@okcskiclub.org
SUMMARY:December General Meeting - Dirty Santa
DESCRIPTION:HO HO HO! It’s that magical time of year—let’s spread some holiday cheer! \n\n\n\nHave you been naughty or nice this season? Either way\, you’re invited to celebrate with us! \n\n\n\nWe’ll keep the tradition alive with a playful gift exchange (bring something fun or clever\, valued around $20—remember\, one person’s trash is another’s treasure!). The real gift is in the laughter! \n\n\n\n• Heavy appetizers will be served• Please bring a dessert to share• Beer and wine provided \n\n\n\nCome join the fun\, the food\, and the festive spirit!You do not have to be a member to attend. Everyone is welcome!
URL:https://okcskiclub.org/event/december-general-meeting-dirty-santa-3/
LOCATION:Stuffed Olive\, 12215 S Pennsylvania Ave\, Oklahoma City\, Oklahoma\, 73170\, United States
CATEGORIES:Event,Save The Date
ATTACH;FMTTYPE=image/png:https://okcskiclub.org/wp-content/uploads/2023/10/Screenshot-2025-08-28-at-3.51.20-PM.png
END:VEVENT
BEGIN:VEVENT
DTSTART;TZID=America/Chicago:20251210T173000
DTEND;TZID=America/Chicago:20251210T193000
DTSTAMP:20260421T194708
CREATED:20251020T131218Z
LAST-MODIFIED:20251024T172326Z
UID:10023-1765387800-1765395000@okcskiclub.org
SUMMARY:December SNO (Skiers Night Out)
DESCRIPTION:We will be hosting December SNO on December 10 at Chisholm’s Club & Saloon.It’s all about music and fun. This will be a non-smoking night. Food will be provided. Must be 21 to attend. Grab a friend and come join the OKC Ski Club for Great Food\, Great Friends\, and Great Fun! You do not have to be a member to attend.Everyone is welcome!Chisholm’s Club & Saloon  •  401 S. Meridian •  OKC\, OK
URL:https://okcskiclub.org/event/december-sno-skiers-night-out-6/
LOCATION:Chisholm’s Bar & Saloon\, 401 S. Meridian\, Oklahoma City\, Oklahoma\, 73108\, United States
CATEGORIES:Event
ATTACH;FMTTYPE=image/png:https://okcskiclub.org/wp-content/uploads/2022/12/Chisholms-logo.png
END:VEVENT
BEGIN:VEVENT
DTSTART;TZID=America/Chicago:20260107T183000
DTEND;TZID=America/Chicago:20260107T203000
DTSTAMP:20260421T194708
CREATED:20251024T175436Z
LAST-MODIFIED:20251024T175438Z
UID:10046-1767810600-1767817800@okcskiclub.org
SUMMARY:January General Meeting\, Spaghetti Dinner
DESCRIPTION:Plan on joining us for our annual Spaghetti Dinner. \n\n\n\nIf you are interested in knowing more about our upcoming ski club events\, trips\, etc or just want to come hang out and meet new friends\, make plans to attend. \n\n\n\nSpaghetti and drinks will be provided\, but please bring an appetizer or dessert. \n\n\n\nThe meeting will be held from 6:30pm – 8:30pm. \n\n\n\nWill Rogers Garden Exhibition Center • 3400 NW 36th Street • OKC\, OK 73112
URL:https://okcskiclub.org/event/january-general-meeting-spaghetti-dinner-5/
LOCATION:Will Rogers Garden Center\, 3400 NW 36th Street\, Oklahoma City\, Oklahoma\, 73112
CATEGORIES:Event,Save The Date
ATTACH;FMTTYPE=image/png:https://okcskiclub.org/wp-content/uploads/2022/10/Screen-Shot-2022-10-12-at-10.59.00-AM.png
END:VEVENT
BEGIN:VEVENT
DTSTART;TZID=America/Chicago:20260114T173000
DTEND;TZID=America/Chicago:20260114T193000
DTSTAMP:20260421T194708
CREATED:20251120T134451Z
LAST-MODIFIED:20251120T134452Z
UID:10150-1768411800-1768419000@okcskiclub.org
SUMMARY:January SNO (Skiers Night Out)
DESCRIPTION:We will be hosting January SNO at Hideaway Pizza which is a trendy\, cozy and casual local pizza chain.  Featuring build-your-own pizza pies\, a variety of Italian dishes\, beer\, cocktails & more\, plus vegetarian dishes. \n\n\n\nThis will be the Pre-trip Party for Wolf Creek and Steamboat.   \n\n\n\nCome pick up your Steamboat Tshirt for the trip.  \n\n\n\nGrab a friend and come join the OKC Ski Club for Great Food\, Great Friends\, and Great Fun! \n\n\n\nYou do not have to be a member to attend.Everyone is welcome!
URL:https://okcskiclub.org/event/january-sno-skiers-night-out-5/
LOCATION:Hideaway Pizza\, 5022 N. Western Ave.\, OKC\, Oklahoma\, 73118\, United States
CATEGORIES:Event
ATTACH;FMTTYPE=image/png:https://okcskiclub.org/wp-content/uploads/2024/03/Screenshot-2024-03-21-at-12.55.17 PM.png
END:VEVENT
BEGIN:VEVENT
DTSTART;TZID=America/Chicago:20260204T183000
DTEND;TZID=America/Chicago:20260204T203000
DTSTAMP:20260421T194708
CREATED:20231218T164707Z
LAST-MODIFIED:20260111T142308Z
UID:6918-1770229800-1770237000@okcskiclub.org
SUMMARY:February General Meeting - Sweets for the Sweet
DESCRIPTION:Got a sweet tooth and a love for fun people? Our club is extra sweet\, and we want YOU to join us! \nBring your favorite dessert or treat to share\, and come learn about our upcoming ski trips and events. \nAs usual\, beverages will be provided\, and we’ll also have door prizes! \nThe meeting will be held from 6:30pm – 8:30pm. \nCome for the sweets. Stay for the people.  \nWill Rogers Garden Exhibition Center\n3400 NW 36th Street • OKC\, OK 73112\n 
URL:https://okcskiclub.org/event/february-general-meeting-sweets-for-the-sweet-3/
LOCATION:Will Rogers Garden Exhibition Center\, Meeting Room 1\, 3400 NW 36th Street\, Oklahoma City\, Oklahoma\, 73112
CATEGORIES:Event,Save The Date
ATTACH;FMTTYPE=image/png:https://okcskiclub.org/wp-content/uploads/2023/12/Screenshot-2024-01-16-at-1.19.42 PM.png
END:VEVENT
BEGIN:VEVENT
DTSTART;TZID=America/Chicago:20260211T173000
DTEND;TZID=America/Chicago:20260211T193000
DTSTAMP:20260421T194708
CREATED:20260111T134904Z
LAST-MODIFIED:20260111T145910Z
UID:10418-1770831000-1770838200@okcskiclub.org
SUMMARY:Feburary SNO (Skiers Night Out)
DESCRIPTION:We will be hosting February SNO at The Garage Burgers & Beer which is a laid-back bar featuring burgers\, bison burgers and onion burgers made from scratch\, plus beers and fries. \n\n\n\nThis will be the Pre-trip Party for Switzerland and Taos.  (Come pick up your Switzerland t-shirt if you are signed up for the trip). \n\n\n\nGrab a friend and come join the OKC Ski Club for Great Food\, Great Friends\, and Great Fun! \n\n\n\nYou do not have to be a member to attend.Everyone is welcome! \n\n\n\nThe Garage  • 2900 W Britton Rd\, Oklahoma City\, OK 73120 (SW corner of May & Britton)
URL:https://okcskiclub.org/event/feburary-sno-skiers-night-out/
LOCATION:The Garage Burgers & Beer\, 2900 W Britton Rd\, OKC\, Oklahoma\, 73120
CATEGORIES:Event,Save The Date
ATTACH;FMTTYPE=image/png:https://okcskiclub.org/wp-content/uploads/2024/03/Screenshot-2024-02-22-at-7.49.10 AM-e1709386980101.png
END:VEVENT
BEGIN:VEVENT
DTSTART;TZID=America/Chicago:20260304T183000
DTEND;TZID=America/Chicago:20260304T203000
DTSTAMP:20260421T194708
CREATED:20260111T135533Z
LAST-MODIFIED:20260111T150723Z
UID:10423-1772649000-1772656200@okcskiclub.org
SUMMARY:March General Meeting & Potluck
DESCRIPTION:Don’t miss our last general meeting of the ski season! Come celebrate\, have some fun\, and hear about upcoming ski club trips and events. Even if you’re just looking to hang out and meet new people\, make plans to join us! \n\n\n\nPlease bring your favorite dish to share\, appetizer or dessert. \n\n\n\nThe meeting will be held from 6:30pm – 8:30pm. \n\n\n\nYou do not have to be a member to attend! \n\n\n\nEveryone is welcome! \n\n\n\nWill Rogers Garden Exhibition Center • 3400 NW 36th Street • OKC\, OK 73112
URL:https://okcskiclub.org/event/march-general-meeting-potluck/
LOCATION:Will Rogers Garden Center\, 3400 NW 36th Street\, Oklahoma City\, Oklahoma\, 73112
CATEGORIES:Event,Save The Date
ATTACH;FMTTYPE=image/png:https://okcskiclub.org/wp-content/uploads/2024/01/Screenshot-2025-02-09-at-7.52.12 AM.png
END:VEVENT
BEGIN:VEVENT
DTSTART;TZID=America/Chicago:20260311T173000
DTEND;TZID=America/Chicago:20260311T193000
DTSTAMP:20260421T194708
CREATED:20260111T141925Z
LAST-MODIFIED:20260111T141926Z
UID:10426-1773250200-1773257400@okcskiclub.org
SUMMARY:March SNO (Skiers Night Out)
DESCRIPTION:We will be hosting March SNO at Belle Isle Restaurant & Pub\, located in 50 Penn Place (south of Penn Square Mall). \n\n\n\nParking and the restaurant entrance are on the north side. \n\n\n\nThe venue has a casual atmosphere with a sports bar feel\, featuring comfort pub food\, specialty pizzas\, burgers\, salads\, and Mexican entrées along with many vegetarian options. A selection of craft beers\, cocktails\, and guest taps will be available.  \n\n\n\nTheir Happy Hour is from 3:00pm – 6:00pm which includes discounted drinks and appetizers.  \n\n\n\nThis will be the Pre-trip Party for Schweitzer Mountain (Idaho) \n\n\n\nGrab a friend and come join the OKC Ski Club for Great Food\, Great Friends\, and Great Fun! \n\n\n\nYou do not have to be a member to attend.Everyone is welcome! \n\n\n\nBelle Isle Restaurant & Pub • 1900 Northwest Expy\, Oklahoma City\, OK 73118 (South of Penn Square Mall)
URL:https://okcskiclub.org/event/march-sno-skiers-night-out-7/
LOCATION:Belle Isle Restaurant & Pub\, 1900 Northwest Expy\, Oklahoma City\, Oklahoma
CATEGORIES:Event,Save The Date
ATTACH;FMTTYPE=image/png:https://okcskiclub.org/wp-content/uploads/2026/01/Screenshot-2026-01-11-at-8.00.05-AM.png
END:VEVENT
BEGIN:VEVENT
DTSTART;TZID=America/Chicago:20260408T173000
DTEND;TZID=America/Chicago:20260408T193000
DTSTAMP:20260421T194708
CREATED:20260216T133247Z
LAST-MODIFIED:20260216T133248Z
UID:10586-1775669400-1775676600@okcskiclub.org
SUMMARY:April SNO (Skiers Night Out)
DESCRIPTION:April SNO is headed to Truck Yard and you won’t want to miss it!  \n\n\n\nThe food trucks are rollin’\, the kitchen’s poppin’\, and the drinks are flowin’. Whether you’re coming for the live music\, craving something delicious from the trucks\, or just looking for a laid-back spot to hang with friends\, this is the place to be. \n\n\n\nGrab a seat indoors or kick back on the dog-friendly patio and soak up the vibes.  \n\n\n\nBring a friend and come join the OKC Ski Club for Great Food\, Great Friends\, and Great Fun! \n\n\n\nYou do not have to be a member to attend.Everyone is welcome! \n\n\n\nHappy Hour til 7:00pm – $4 Beers\, $5 Cocktails\, $6 Frozens
URL:https://okcskiclub.org/event/april-sno-skiers-night-out-6/
LOCATION:Truck Yard OKC\, 240 Centennial Drive (Lower Bricktown)\, Oklahoma City\, Oklahoma\, 73104\, United States
CATEGORIES:Event
ATTACH;FMTTYPE=image/png:https://okcskiclub.org/wp-content/uploads/2026/02/Screenshot-2026-02-16-at-7.31.35-AM.png
END:VEVENT
BEGIN:VEVENT
DTSTART;TZID=America/Chicago:20260513T173000
DTEND;TZID=America/Chicago:20260513T193000
DTSTAMP:20260421T194708
CREATED:20260309T124410Z
LAST-MODIFIED:20260320T132845Z
UID:10665-1778693400-1778700600@okcskiclub.org
SUMMARY:May SNO (Skiers Night Out)
DESCRIPTION:We’re hosting SNO at The Mule in the Plaza District—a local favorite known for gourmet hot melts\, next-level grilled cheese\, and a large selection of local beers. We’ll be hanging out on the covered outdoor patio! \n\n\n\nParking is easy—use the Lyric Theater lot across the street or grab a nearby street spot. \n\n\n\nTheir Happy Hour: 3:00–6:00 PMEnjoy top beers and half-price half orders of appetizers — the perfect combo! \n\n\n\nGrab a friend and come join the OKC Ski Club for Great Food\, Great Friends\, and Great Fun! \n\n\n\nYou do not have to be a member to attend.Everyone is welcome!
URL:https://okcskiclub.org/event/may-sno-skiers-night-out-6/
LOCATION:The Mule\, 1800 NW 16th St.\, Oklahoma City\, Oklahoma\, 73106\, United States
CATEGORIES:Event
ATTACH;FMTTYPE=image/png:https://okcskiclub.org/wp-content/uploads/2026/03/Screenshot-2026-03-09-at-8.09.55-AM.png
END:VEVENT
BEGIN:VEVENT
DTSTART;TZID=America/Chicago:20260610T173000
DTEND;TZID=America/Chicago:20260610T193000
DTSTAMP:20260421T194708
CREATED:20260320T134606Z
LAST-MODIFIED:20260417T155518Z
UID:10698-1781112600-1781119800@okcskiclub.org
SUMMARY:June SNO (Skiers Night Out)
DESCRIPTION:Join us for our June SNO at SER—a vibrant Tex-Mex spot where tradition meets creative flair. Think bold flavors\, refreshing cocktails\, and a lively patio perfect for relaxing and connecting. \n\n\n\nCome slow down\, savor the moment\, and enjoy a great evening with us.Parking is easy—available behind the restaurant or just next door behind Guyutes. \n\n\n\nGrab a friend and come join the OKC Ski Club for Great Food\, Great Friends\, and Great Fun! \n\n\n\nYou do not have to be a member to attend.  Everyone is welcome! 
URL:https://okcskiclub.org/event/june-sno-skiers-night-out-7/
LOCATION:Ser\, 726 NW 23rd St\, Oklahoma City\, OK 73103\, Oklahoma City\, Oklahoma\, 73103\, United States
CATEGORIES:Event,Save The Date
ATTACH;FMTTYPE=image/png:https://okcskiclub.org/wp-content/uploads/2026/03/Screenshot-2026-03-20-at-8.44.59-AM.png
END:VEVENT
BEGIN:VEVENT
DTSTART;TZID=America/Chicago:20260708T173000
DTEND;TZID=America/Chicago:20260708T193000
DTSTAMP:20260421T194708
CREATED:20260414T215206Z
LAST-MODIFIED:20260414T215414Z
UID:10805-1783531800-1783539000@okcskiclub.org
SUMMARY:July SNO (Skiers Night Out)
DESCRIPTION:Saddle up!  We’ll be hosting July SNO in Cowtown!While you won’t find a hitching post out front or swinging saloon doors\, you will discover the charm of McClintock Saloon & Chop House—an inviting western-style steakhouse in Stockyards City where you can enjoy a fantastic meal and perhaps sip on three fingers of whiskey like the cowboys of the Wild West. \n\n\n\nWhether you’re in the mood for Happy Hour\, a casual dinner with salads\, sandwiches\, and burgers\, or hearty steaks paired with whiskey\, there’s something for everyone. \n\n\n\nTheir Happy Hour 4:30pm-6:30pm \n\n\n\nHalf price draft beers\, well drinks\, house white & red wines\, classic cocktails and bar food snacks.  \n\n\n\nGrab a friend and come join the OKC Ski Club for Great Food\, Great Friends\, and Great Fun! \n\n\n\nYou do not have to be a member to attend.Everyone is welcome! 
URL:https://okcskiclub.org/event/july-sno-skiers-night-out-6/
LOCATION:McClintocks Saloon & Chophouse\, 2227 Exchange Ave\, Oklahoma City\, Oklahoma\, 73108
CATEGORIES:Event,Save The Date
ATTACH;FMTTYPE=image/png:https://okcskiclub.org/wp-content/uploads/2026/04/Screenshot-2026-04-14-at-4.53.16-PM.png
END:VEVENT
BEGIN:VEVENT
DTSTART;TZID=America/Chicago:20260812T173000
DTEND;TZID=America/Chicago:20260812T193000
DTSTAMP:20260421T194708
CREATED:20260415T192311Z
LAST-MODIFIED:20260415T192313Z
UID:10813-1786555800-1786563000@okcskiclub.org
SUMMARY:August SNO (Skiers Night Out)
DESCRIPTION:Join us for August SNO at Pearl’s Oyster Bar! \n\n\n\nPearl’s is known for its lively atmosphere and flavorful fusion of Creole\, Asian\, Mediterranean\, and Southwest cuisine. They offer something for everyone—from fresh seafood favorites to sandwiches\, salads\, and burgers. \n\n\n\nTheir Happy Hour | 4:00–6:00 PMEnjoy:• Small Bites• Half-Priced Wine• $5 Single Stoli’s \n\n\n\nGrab a friend and come join the OKC Ski Club for great food\, great friends\, and great fun! \n\n\n\nYou do not need to be a member to attend — everyone is welcome!
URL:https://okcskiclub.org/event/august-sno-skiers-night-out-8/
LOCATION:Pearl’s Oyster Bar\, 5641 N. Classen Boulevard\, Oklahoma City\, Oklahoma\, 73118
CATEGORIES:Event,Save The Date
ATTACH;FMTTYPE=image/png:https://okcskiclub.org/wp-content/uploads/2026/04/Screenshot-2026-04-14-at-4.57.10-PM.png
END:VEVENT
END:VCALENDAR